BEGIN:VCALENDAR
VERSION:2.0
PRODID:-//VBR - ECPv6.15.17.1//NONSGML v1.0//EN
CALSCALE:GREGORIAN
METHOD:PUBLISH
X-ORIGINAL-URL:https://valleybusinessreport.com
X-WR-CALDESC:Events for VBR
REFRESH-INTERVAL;VALUE=DURATION:PT1H
X-Robots-Tag:noindex
X-PUBLISHED-TTL:PT1H
BEGIN:VTIMEZONE
TZID:America/Chicago
BEGIN:DAYLIGHT
TZOFFSETFROM:-0600
TZOFFSETTO:-0500
TZNAME:CDT
DTSTART:20240310T080000
END:DAYLIGHT
BEGIN:STANDARD
TZOFFSETFROM:-0500
TZOFFSETTO:-0600
TZNAME:CST
DTSTART:20241103T070000
END:STANDARD
BEGIN:DAYLIGHT
TZOFFSETFROM:-0600
TZOFFSETTO:-0500
TZNAME:CDT
DTSTART:20250309T080000
END:DAYLIGHT
BEGIN:STANDARD
TZOFFSETFROM:-0500
TZOFFSETTO:-0600
TZNAME:CST
DTSTART:20251102T070000
END:STANDARD
BEGIN:DAYLIGHT
TZOFFSETFROM:-0600
TZOFFSETTO:-0500
TZNAME:CDT
DTSTART:20260308T080000
END:DAYLIGHT
BEGIN:STANDARD
TZOFFSETFROM:-0500
TZOFFSETTO:-0600
TZNAME:CST
DTSTART:20261101T070000
END:STANDARD
END:VTIMEZONE
BEGIN:VEVENT
DTSTART;TZID=America/Chicago:20250920T180000
DTEND;TZID=America/Chicago:20250920T210000
DTSTAMP:20260421T143458
CREATED:20250918T003840Z
LAST-MODIFIED:20250918T003840Z
UID:10001317-1758391200-1758402000@valleybusinessreport.com
SUMMARY:Sea Turtle Inc. 5K Kemp's Krawl
DESCRIPTION:Enjoy a family-fun night color glow run for sea turtles at the Sea Turtle Inc. 5K Kemp’s Krawl on Sept. 20. \nWhether you’re a seasoned runner or just in it for the fun\, the Kemp’s Krawl is perfect for all ages — with timed results for the competitive and vibrant color stations. Bring the whole family for an unforgettable evening filled with glowing fun\, ocean breezes and a great cause: protecting sea turtles. Let’s light up the night and run for the turtles. \nRegister online. \n\n\n	Related
URL:https://valleybusinessreport.com/event/sea-turtle-inc-5k-kemps-krawl/
LOCATION:Hilton Garden Inn Beach Resort\, 7010 Padre Blvd.\, South Padre Island\, TX\, 78597\, United States
CATEGORIES:Festivals and Celebrations
ATTACH;FMTTYPE=image/jpeg:https://valleybusinessreport.com/wp-content/uploads/2025/09/EventPhotoFull_5K-kemps-chamberEvent-3.jpg
END:VEVENT
END:VCALENDAR