BEGIN:VCALENDAR
VERSION:2.0
PRODID:-//VBR - ECPv6.15.17.1//NONSGML v1.0//EN
CALSCALE:GREGORIAN
METHOD:PUBLISH
X-WR-CALNAME:VBR
X-ORIGINAL-URL:https://valleybusinessreport.com
X-WR-CALDESC:Events for VBR
REFRESH-INTERVAL;VALUE=DURATION:PT1H
X-Robots-Tag:noindex
X-PUBLISHED-TTL:PT1H
BEGIN:VTIMEZONE
TZID:America/Chicago
BEGIN:DAYLIGHT
TZOFFSETFROM:-0600
TZOFFSETTO:-0500
TZNAME:CDT
DTSTART:20240310T080000
END:DAYLIGHT
BEGIN:STANDARD
TZOFFSETFROM:-0500
TZOFFSETTO:-0600
TZNAME:CST
DTSTART:20241103T070000
END:STANDARD
BEGIN:DAYLIGHT
TZOFFSETFROM:-0600
TZOFFSETTO:-0500
TZNAME:CDT
DTSTART:20250309T080000
END:DAYLIGHT
BEGIN:STANDARD
TZOFFSETFROM:-0500
TZOFFSETTO:-0600
TZNAME:CST
DTSTART:20251102T070000
END:STANDARD
BEGIN:DAYLIGHT
TZOFFSETFROM:-0600
TZOFFSETTO:-0500
TZNAME:CDT
DTSTART:20260308T080000
END:DAYLIGHT
BEGIN:STANDARD
TZOFFSETFROM:-0500
TZOFFSETTO:-0600
TZNAME:CST
DTSTART:20261101T070000
END:STANDARD
END:VTIMEZONE
BEGIN:VEVENT
DTSTART;TZID=America/Chicago:20250122T180000
DTEND;TZID=America/Chicago:20250122T230000
DTSTAMP:20260421T055928
CREATED:20241229T172151Z
LAST-MODIFIED:20241229T172151Z
UID:10001227-1737568800-1737586800@valleybusinessreport.com
SUMMARY:Corporate Super Bowl Tournament
DESCRIPTION:Strike up some fun at the RGVHCC Corporate Super Bowl Tournament on Jan. 11. Gather your team of five at Incredibowl in Mission for a day of bowling\, networking and team spirit. \nRegistration of $500 per team of five includes: \n\nFive customized team T-shirts\nOne pitcher of beer\nFive non-alcoholic beverages\nA team picture\n\nEach team must have a minimum of one female player. Pre-registration required. \n\n\n	Related
URL:https://valleybusinessreport.com/event/corporate-super-bowl-tournament/
LOCATION:Incredibowl\, 2140 E U.S. Business 83\, Mission\, United States
CATEGORIES:Recreation
ATTACH;FMTTYPE=image/jpeg:https://valleybusinessreport.com/wp-content/uploads/2024/12/Corporate-Super-Bowl.jpg
END:VEVENT
END:VCALENDAR