BEGIN:VCALENDAR
VERSION:2.0
PRODID:-//VBR - ECPv6.15.17.1//NONSGML v1.0//EN
CALSCALE:GREGORIAN
METHOD:PUBLISH
X-WR-CALNAME:VBR
X-ORIGINAL-URL:https://valleybusinessreport.com
X-WR-CALDESC:Events for VBR
REFRESH-INTERVAL;VALUE=DURATION:PT1H
X-Robots-Tag:noindex
X-PUBLISHED-TTL:PT1H
BEGIN:VTIMEZONE
TZID:America/Chicago
BEGIN:DAYLIGHT
TZOFFSETFROM:-0600
TZOFFSETTO:-0500
TZNAME:CDT
DTSTART:20200308T080000
END:DAYLIGHT
BEGIN:STANDARD
TZOFFSETFROM:-0500
TZOFFSETTO:-0600
TZNAME:CST
DTSTART:20201101T070000
END:STANDARD
BEGIN:DAYLIGHT
TZOFFSETFROM:-0600
TZOFFSETTO:-0500
TZNAME:CDT
DTSTART:20210314T080000
END:DAYLIGHT
BEGIN:STANDARD
TZOFFSETFROM:-0500
TZOFFSETTO:-0600
TZNAME:CST
DTSTART:20211107T070000
END:STANDARD
BEGIN:DAYLIGHT
TZOFFSETFROM:-0600
TZOFFSETTO:-0500
TZNAME:CDT
DTSTART:20220313T080000
END:DAYLIGHT
BEGIN:STANDARD
TZOFFSETFROM:-0500
TZOFFSETTO:-0600
TZNAME:CST
DTSTART:20221106T070000
END:STANDARD
BEGIN:DAYLIGHT
TZOFFSETFROM:-0600
TZOFFSETTO:-0500
TZNAME:CDT
DTSTART:20230312T080000
END:DAYLIGHT
BEGIN:STANDARD
TZOFFSETFROM:-0500
TZOFFSETTO:-0600
TZNAME:CST
DTSTART:20231105T070000
END:STANDARD
BEGIN:DAYLIGHT
TZOFFSETFROM:-0600
TZOFFSETTO:-0500
TZNAME:CDT
DTSTART:20240310T080000
END:DAYLIGHT
BEGIN:STANDARD
TZOFFSETFROM:-0500
TZOFFSETTO:-0600
TZNAME:CST
DTSTART:20241103T070000
END:STANDARD
END:VTIMEZONE
BEGIN:VEVENT
DTSTART;TZID=America/Chicago:20230513T113000
DTEND;TZID=America/Chicago:20230513T140000
DTSTAMP:20260421T035929
CREATED:20230509T191353Z
LAST-MODIFIED:20230510T183028Z
UID:10000930-1683977400-1683986400@valleybusinessreport.com
SUMMARY:IMAS Guild: Style Show 2023
DESCRIPTION:Join the ladies of the IMAS Guild on May 13 for an afternoon of fashion\, auctions\, and music at the International Museum of Art & Science. \nThis annual style show and luncheon feature the latest fashions from Lionel’s Boutique and Gifts\, Chico’s and Dillard’s. \nAll proceeds from the Guild Spring Style Show & Luncheon support the International Museum of Art & Science in fulfilling its goal of inspiring the community with educational programs and exhibitions. \nSponsorship opportunities are available. For tickets or sponsorship inquiries\, contact Mariella Gorena at 956-451-4665 or Tina Ziegler at 956-624-9624. \n\n\n	Related
URL:https://valleybusinessreport.com/event/imas-guild-style-show-2023/
LOCATION:International Museum of Art & Science\, 1900 W. Nolana Ave.\, McAllen\, TX\, 78504\, United States
CATEGORIES:Fundraisers
ATTACH;FMTTYPE=image/jpeg:https://valleybusinessreport.com/wp-content/uploads/2023/05/Style-Show-imas.jpg
END:VEVENT
BEGIN:VEVENT
DTSTART;TZID=America/Chicago:20221009T130000
DTEND;TZID=America/Chicago:20221009T170000
DTSTAMP:20260421T035929
CREATED:20220912T153842Z
LAST-MODIFIED:20220912T213823Z
UID:10000826-1665320400-1665334800@valleybusinessreport.com
SUMMARY:Día De Los Muertos Festival & Market At The Museum
DESCRIPTION:Join the International Museum of Art & Science for its annual Día de los Muertos Festival on Oct. 9. This lively event includes performances\, a display of altares created by community organizations\, and a Market at the Museum featuring regional artists and artisans. \nActivities include a candle painting\, exhibit tours and a sugar skull decorating. Each activity is an additional $3 each. \nIMAS Día de los Muertos Festival is presented by H-E-B Helping Here with additional support from Humanities Texas. \n\n\n	Related
URL:https://valleybusinessreport.com/event/dia-de-los-muertos-festival-market-at-the-museum/
LOCATION:International Museum of Art & Science\, 1900 W. Nolana Ave.\, McAllen\, TX\, 78504\, United States
CATEGORIES:Festivals and Celebrations
ATTACH;FMTTYPE=image/jpeg:https://valleybusinessreport.com/wp-content/uploads/2022/09/Dia-de-los-Muertos-Festival.jpg
END:VEVENT
BEGIN:VEVENT
DTSTART;TZID=America/Chicago:20220814T130000
DTEND;TZID=America/Chicago:20220814T170000
DTSTAMP:20260421T035929
CREATED:20220808T163215Z
LAST-MODIFIED:20220808T163215Z
UID:10000639-1660482000-1660496400@valleybusinessreport.com
SUMMARY:Back To School Blast Off
DESCRIPTION:Blast off back to school with the IMAS and McAllen Public Utility on Aug. 14. This event features hands-on art and science activities in celebration of the James Webb Space Telescope’s first images. \nThe event also includes community tables\, free books and planetarium presentations. A virtual Webb Expert Panel takes place at 2:30 p.m. \nThis is event is free for McAllen residents. \n\n\n	Related
URL:https://valleybusinessreport.com/event/back-to-school-blast-off/
LOCATION:International Museum of Art & Science\, 1900 W. Nolana Ave.\, McAllen\, TX\, 78504\, United States
CATEGORIES:Festivals and Celebrations
ATTACH;FMTTYPE=image/jpeg:https://valleybusinessreport.com/wp-content/uploads/2022/08/back-to-school-blast-off.jpg
END:VEVENT
BEGIN:VEVENT
DTSTART;TZID=America/Chicago:20211010T130000
DTEND;TZID=America/Chicago:20211010T170000
DTSTAMP:20260421T035929
CREATED:20211004T132143Z
LAST-MODIFIED:20211004T132456Z
UID:10000661-1633870800-1633885200@valleybusinessreport.com
SUMMARY:Dia de los Muertos Festival and Market
DESCRIPTION:IMAS hosts the Dia de los Muertos Festival and Market Oct. 10. Visitors can play Lotería\, create papel picado\, make a paper butterfly shadow box\, view the altars display\, and decorate a traditional sugar skull ($2 per participant). \nA diverse vendor market will be on site with traditional pieces and handmade goods including art\, jewelry\, plants\, aguas frescas and sweet treats. Community tables include McAllen Public Library and Valley Symphony Orchestra. \nThe McAllen Creative Incubator will host a table featuring Creative Arts Studio and their mariachi group 2-3 p.m. A special performance by UTRGV Ballet Folklórico will take place at 3:30 p.m. \n\n\n	Related
URL:https://valleybusinessreport.com/event/dia-de-los-muertos-festival-and-market/
LOCATION:International Museum of Art & Science\, 1900 W. Nolana Ave.\, McAllen\, TX\, 78504\, United States
CATEGORIES:Entertainment
ATTACH;FMTTYPE=image/png:https://valleybusinessreport.com/wp-content/uploads/2021/10/DDLM.png
END:VEVENT
END:VCALENDAR