BEGIN:VCALENDAR
VERSION:2.0
PRODID:-//VBR - ECPv6.15.17.1//NONSGML v1.0//EN
CALSCALE:GREGORIAN
METHOD:PUBLISH
X-ORIGINAL-URL:https://valleybusinessreport.com
X-WR-CALDESC:Events for VBR
REFRESH-INTERVAL;VALUE=DURATION:PT1H
X-Robots-Tag:noindex
X-PUBLISHED-TTL:PT1H
BEGIN:VTIMEZONE
TZID:America/Chicago
BEGIN:DAYLIGHT
TZOFFSETFROM:-0600
TZOFFSETTO:-0500
TZNAME:CDT
DTSTART:20210314T080000
END:DAYLIGHT
BEGIN:STANDARD
TZOFFSETFROM:-0500
TZOFFSETTO:-0600
TZNAME:CST
DTSTART:20211107T070000
END:STANDARD
BEGIN:DAYLIGHT
TZOFFSETFROM:-0600
TZOFFSETTO:-0500
TZNAME:CDT
DTSTART:20220313T080000
END:DAYLIGHT
BEGIN:STANDARD
TZOFFSETFROM:-0500
TZOFFSETTO:-0600
TZNAME:CST
DTSTART:20221106T070000
END:STANDARD
BEGIN:DAYLIGHT
TZOFFSETFROM:-0600
TZOFFSETTO:-0500
TZNAME:CDT
DTSTART:20230312T080000
END:DAYLIGHT
BEGIN:STANDARD
TZOFFSETFROM:-0500
TZOFFSETTO:-0600
TZNAME:CST
DTSTART:20231105T070000
END:STANDARD
END:VTIMEZONE
BEGIN:VEVENT
DTSTART;TZID=America/Chicago:20221112T190000
DTEND;TZID=America/Chicago:20221112T230000
DTSTAMP:20260421T063120
CREATED:20221108T203716Z
LAST-MODIFIED:20221108T203716Z
UID:10000813-1668279600-1668294000@valleybusinessreport.com
SUMMARY:SPI Chamber Winter Wonderland Annual Gala
DESCRIPTION:The South Padre Island Chamber of Commerce hosts its Winter Wonderland Gala and Fundraiser on Nov. 12. The evening begins at the Isla Grand Beach Resort at 7 p.m. with cocktails and a silent auction. An extravagent buffet begins at 7:30 p.m. followed by dancing until 11 p.m. with “The Agency.” \nDress is formal. Individual tickets are $90. \n\n\n	Related
URL:https://valleybusinessreport.com/event/winter-wonderland-gala/
LOCATION:Isla Grand Beach Resort\, 500 Padre Blvd.\, South Padre Island\, TX\, 78597\, United States
CATEGORIES:Festivals and Celebrations
ATTACH;FMTTYPE=image/png:https://valleybusinessreport.com/wp-content/uploads/2022/11/SPIGala2022.png
ORGANIZER;CN="Alita Bagley%2C SPI Chamber of Commerce":MAILTO:alita@spichamber.com
END:VEVENT
END:VCALENDAR