BEGIN:VCALENDAR
VERSION:2.0
PRODID:-//VBR - ECPv6.15.17.1//NONSGML v1.0//EN
CALSCALE:GREGORIAN
METHOD:PUBLISH
X-WR-CALNAME:VBR
X-ORIGINAL-URL:https://valleybusinessreport.com
X-WR-CALDESC:Events for VBR
REFRESH-INTERVAL;VALUE=DURATION:PT1H
X-Robots-Tag:noindex
X-PUBLISHED-TTL:PT1H
BEGIN:VTIMEZONE
TZID:America/Chicago
BEGIN:DAYLIGHT
TZOFFSETFROM:-0600
TZOFFSETTO:-0500
TZNAME:CDT
DTSTART:20230312T080000
END:DAYLIGHT
BEGIN:STANDARD
TZOFFSETFROM:-0500
TZOFFSETTO:-0600
TZNAME:CST
DTSTART:20231105T070000
END:STANDARD
BEGIN:DAYLIGHT
TZOFFSETFROM:-0600
TZOFFSETTO:-0500
TZNAME:CDT
DTSTART:20240310T080000
END:DAYLIGHT
BEGIN:STANDARD
TZOFFSETFROM:-0500
TZOFFSETTO:-0600
TZNAME:CST
DTSTART:20241103T070000
END:STANDARD
BEGIN:DAYLIGHT
TZOFFSETFROM:-0600
TZOFFSETTO:-0500
TZNAME:CDT
DTSTART:20250309T080000
END:DAYLIGHT
BEGIN:STANDARD
TZOFFSETFROM:-0500
TZOFFSETTO:-0600
TZNAME:CST
DTSTART:20251102T070000
END:STANDARD
END:VTIMEZONE
BEGIN:VEVENT
DTSTART;TZID=America/Chicago:20240425T090000
DTEND;TZID=America/Chicago:20240425T140000
DTSTAMP:20260422T085241
CREATED:20240417T013604Z
LAST-MODIFIED:20240417T013604Z
UID:10001121-1714035600-1714053600@valleybusinessreport.com
SUMMARY:South Texas Senior Summit - Starr County
DESCRIPTION:Discover a day tailored exclusively for seniors (ages 60 and up) at the annual Senior Summit on April 25 in Rio Grande City. \nFree activities include:\n\nEducation Seminars: Immerse yourself in enlightening sessions covering essential topics such as Health\, Medicare\, Medicaid\, and safeguarding against Fraud and Abuse.\nWellness Exams: Dedicated professionals offering thorough examinations for Face\, Ears\, Eyes\, Nose\, Throat\, Heart and Lungs.\nHealth Screenings: Take advantage of complimentary screenings for Glucose\, Blood Pressure\, Eye health\, Feet\, Veins\, Dental and even Bone Density.\nActivities Galore: Engage in activities designed for your enjoyment and well-being from invigorating Zumba sessions to indulgent Gold Massages\, dazzling Nail Polishing\, and even lively Dancing.\nComplimentary Lunch & Snacks: Delight in a delicious spread to keep you energized throughout the event.\n\nThis event is free and open to all seniors ages 60 and up. \nRegister online. \n\n\n	Related
URL:https://valleybusinessreport.com/event/south-texas-senior-summit-starr-county/
LOCATION:Julabe Event Center\, 5501 Acapulco Street\, Rio Grande City\, United States
CATEGORIES:Conferences and Summits
ATTACH;FMTTYPE=image/png:https://valleybusinessreport.com/wp-content/uploads/2024/04/Senior-Summit.png
END:VEVENT
END:VCALENDAR