BEGIN:VCALENDAR
VERSION:2.0
PRODID:-//VBR - ECPv6.15.17.1//NONSGML v1.0//EN
CALSCALE:GREGORIAN
METHOD:PUBLISH
X-WR-CALNAME:VBR
X-ORIGINAL-URL:https://valleybusinessreport.com
X-WR-CALDESC:Events for VBR
REFRESH-INTERVAL;VALUE=DURATION:PT1H
X-Robots-Tag:noindex
X-PUBLISHED-TTL:PT1H
BEGIN:VTIMEZONE
TZID:America/Chicago
BEGIN:DAYLIGHT
TZOFFSETFROM:-0600
TZOFFSETTO:-0500
TZNAME:CDT
DTSTART:20230312T080000
END:DAYLIGHT
BEGIN:STANDARD
TZOFFSETFROM:-0500
TZOFFSETTO:-0600
TZNAME:CST
DTSTART:20231105T070000
END:STANDARD
BEGIN:DAYLIGHT
TZOFFSETFROM:-0600
TZOFFSETTO:-0500
TZNAME:CDT
DTSTART:20240310T080000
END:DAYLIGHT
BEGIN:STANDARD
TZOFFSETFROM:-0500
TZOFFSETTO:-0600
TZNAME:CST
DTSTART:20241103T070000
END:STANDARD
BEGIN:DAYLIGHT
TZOFFSETFROM:-0600
TZOFFSETTO:-0500
TZNAME:CDT
DTSTART:20250309T080000
END:DAYLIGHT
BEGIN:STANDARD
TZOFFSETFROM:-0500
TZOFFSETTO:-0600
TZNAME:CST
DTSTART:20251102T070000
END:STANDARD
END:VTIMEZONE
BEGIN:VEVENT
DTSTART;TZID=America/Chicago:20241025T180000
DTEND;TZID=America/Chicago:20241025T235500
DTSTAMP:20260421T170927
CREATED:20240916T164940Z
LAST-MODIFIED:20240916T164940Z
UID:10001186-1729879200-1729900500@valleybusinessreport.com
SUMMARY:RGVHCC Noche De Gala 2024
DESCRIPTION:The RGV Hispanic Chamber of Commerce hosts its 2024 “25th Silver Anniversary” Noche De Gala on Oct. 25\, honoring the Business Man & Women of the Year\, as well as the Golden Eagle Award. \nThe theme “25th Silver Anniversary” is a silver and black-tie optional gala that will feature a welcome reception with cocktails\, live music and the awards. The evening will include a three-course meal\, crafted cocktails\, live entertainment and photo opportunities. \nThe gala will also feature a live and silent auction to benefit the RGV Hispanic Chamber\, which supports small businesses and the community at large. \nTickets are $125 for individual tickets\, $1\,500 for a reserved table of eight. \nRegister online. \n\n\n	Related
URL:https://valleybusinessreport.com/event/rgvhcc-noche-de-gala-2024/
LOCATION:Kalos Event Center\, 1516 E. Expressway 83\, Mission\, TX\, 78572\, United States
CATEGORIES:Awards and Recognitions
ATTACH;FMTTYPE=image/jpeg:https://valleybusinessreport.com/wp-content/uploads/2024/09/Noche-De-Gala-2024.jpg
END:VEVENT
END:VCALENDAR