BEGIN:VCALENDAR
VERSION:2.0
PRODID:-//VBR - ECPv6.15.17.1//NONSGML v1.0//EN
CALSCALE:GREGORIAN
METHOD:PUBLISH
X-ORIGINAL-URL:https://valleybusinessreport.com
X-WR-CALDESC:Events for VBR
REFRESH-INTERVAL;VALUE=DURATION:PT1H
X-Robots-Tag:noindex
X-PUBLISHED-TTL:PT1H
BEGIN:VTIMEZONE
TZID:America/Chicago
BEGIN:DAYLIGHT
TZOFFSETFROM:-0600
TZOFFSETTO:-0500
TZNAME:CDT
DTSTART:20220313T080000
END:DAYLIGHT
BEGIN:STANDARD
TZOFFSETFROM:-0500
TZOFFSETTO:-0600
TZNAME:CST
DTSTART:20221106T070000
END:STANDARD
BEGIN:DAYLIGHT
TZOFFSETFROM:-0600
TZOFFSETTO:-0500
TZNAME:CDT
DTSTART:20230312T080000
END:DAYLIGHT
BEGIN:STANDARD
TZOFFSETFROM:-0500
TZOFFSETTO:-0600
TZNAME:CST
DTSTART:20231105T070000
END:STANDARD
BEGIN:DAYLIGHT
TZOFFSETFROM:-0600
TZOFFSETTO:-0500
TZNAME:CDT
DTSTART:20240310T080000
END:DAYLIGHT
BEGIN:STANDARD
TZOFFSETFROM:-0500
TZOFFSETTO:-0600
TZNAME:CST
DTSTART:20241103T070000
END:STANDARD
END:VTIMEZONE
BEGIN:VEVENT
DTSTART;TZID=America/Chicago:20230403T173000
DTEND;TZID=America/Chicago:20230403T193000
DTSTAMP:20260421T044618
CREATED:20230329T144054Z
LAST-MODIFIED:20230329T144054Z
UID:10000928-1680543000-1680550200@valleybusinessreport.com
SUMMARY:RGVHCC Manic Monday Mixer
DESCRIPTION:The Rio Grande Valley Hispanic Chamber of Commerce hosts its April Manic Monday Mixer on April 3 at La Bahia. The networking event provides a venue for business people to gather over appetizers and beverages while they mingle and create new business leads. The Manic Monday Mixers have helped the RGVHCC members create many business contacts from throughout the Rio Grande Valley. \nAnyone donating a door prize gets an extra opportunity to talk about their business. \nRegister online. \n\n\n	Related
URL:https://valleybusinessreport.com/event/rgvhcc-manic-monday-mixer-3/
LOCATION:La Bahia\, 4620 N. 10th Street\, McAllen\, TX\, United States
CATEGORIES:Networking
ATTACH;FMTTYPE=image/jpeg:https://valleybusinessreport.com/wp-content/uploads/2023/03/Manic-Monday-Mixer-04.23.jpg
END:VEVENT
END:VCALENDAR