BEGIN:VCALENDAR
VERSION:2.0
PRODID:-//VBR - ECPv6.15.17.1//NONSGML v1.0//EN
CALSCALE:GREGORIAN
METHOD:PUBLISH
X-ORIGINAL-URL:https://valleybusinessreport.com
X-WR-CALDESC:Events for VBR
REFRESH-INTERVAL;VALUE=DURATION:PT1H
X-Robots-Tag:noindex
X-PUBLISHED-TTL:PT1H
BEGIN:VTIMEZONE
TZID:America/Chicago
BEGIN:DAYLIGHT
TZOFFSETFROM:-0600
TZOFFSETTO:-0500
TZNAME:CDT
DTSTART:20230312T080000
END:DAYLIGHT
BEGIN:STANDARD
TZOFFSETFROM:-0500
TZOFFSETTO:-0600
TZNAME:CST
DTSTART:20231105T070000
END:STANDARD
BEGIN:DAYLIGHT
TZOFFSETFROM:-0600
TZOFFSETTO:-0500
TZNAME:CDT
DTSTART:20240310T080000
END:DAYLIGHT
BEGIN:STANDARD
TZOFFSETFROM:-0500
TZOFFSETTO:-0600
TZNAME:CST
DTSTART:20241103T070000
END:STANDARD
BEGIN:DAYLIGHT
TZOFFSETFROM:-0600
TZOFFSETTO:-0500
TZNAME:CDT
DTSTART:20250309T080000
END:DAYLIGHT
BEGIN:STANDARD
TZOFFSETFROM:-0500
TZOFFSETTO:-0600
TZNAME:CST
DTSTART:20251102T070000
END:STANDARD
BEGIN:DAYLIGHT
TZOFFSETFROM:-0600
TZOFFSETTO:-0500
TZNAME:CDT
DTSTART:20260308T080000
END:DAYLIGHT
BEGIN:STANDARD
TZOFFSETFROM:-0500
TZOFFSETTO:-0600
TZNAME:CST
DTSTART:20261101T070000
END:STANDARD
END:VTIMEZONE
BEGIN:VEVENT
DTSTART;TZID=America/Chicago:20250716T113000
DTEND;TZID=America/Chicago:20250716T130000
DTSTAMP:20260422T025344
CREATED:20250703T184749Z
LAST-MODIFIED:20250703T184749Z
UID:10001295-1752665400-1752670800@valleybusinessreport.com
SUMMARY:LSNB - Borrowing Money & Company Structure
DESCRIPTION:Lone Star National Bank’s exclusive Lunch & Learn Series\, “Supporting Business Success\,” is back with “Borrowing Money & Company Structure” on July 16. \nThis in-person educational seminar is designed to empower local entrepreneurs and business leaders with actionable tools and insights to help launch\, manage and grow a thriving business. \nThis initiative follows Financial Literacy Month\, as part of LSNB’s ongoing commitment to strengthen the local business community through financial education and support. \nRSVP by emailing CommunityRelations@lsnb.com or calling 956-414-2051.\n\n\n	Related
URL:https://valleybusinessreport.com/event/lsnb-borrowing-money-company-structure/
LOCATION:Lone Star National Bank – McAllen\, 520 East Nolana Avenue\, McAllen\, United States
CATEGORIES:Seminars and Workshops
ATTACH;FMTTYPE=image/jpeg:https://valleybusinessreport.com/wp-content/uploads/2025/07/LSNB.jpg
ORGANIZER;CN="Lone Star National Bank":MAILTO:CommunityRelations@lsnb.com
END:VEVENT
BEGIN:VEVENT
DTSTART;TZID=America/Chicago:20250521T113000
DTEND;TZID=America/Chicago:20250521T130000
DTSTAMP:20260422T025344
CREATED:20250514T221301Z
LAST-MODIFIED:20250514T221301Z
UID:10001280-1747827000-1747832400@valleybusinessreport.com
SUMMARY:LSNB - Insurance Preparedness & Business Tax Strategies
DESCRIPTION:Lone Star National Bank – Exclusive Lunch & Learn Series: “Supporting Business Success” is back on May 21 with “Insurance Preparedness & Business Tax Strategies.” \nThe series of in-person educational seminars are designed to empower local entrepreneurs and business leaders with actionable tools and insights to help launch\, manage and grow a thriving business. \nThis initiative follows Financial Literacy Month\, as part of LSNB’s ongoing commitment to strengthen the local business community through financial education and support. \nRSVP via communityRelations@lsnb.com or 956-414-2051.\n\n\n	Related
URL:https://valleybusinessreport.com/event/lsnb-insurance-preparedness-business-tax-strategies/
LOCATION:Lone Star National Bank – McAllen\, 520 East Nolana Avenue\, McAllen\, United States
CATEGORIES:Seminars and Workshops
ATTACH;FMTTYPE=image/jpeg:https://valleybusinessreport.com/wp-content/uploads/2025/05/LSNB.jpg
ORGANIZER;CN="Lone Star National Bank":MAILTO:CommunityRelations@lsnb.com
END:VEVENT
BEGIN:VEVENT
DTSTART;TZID=America/Chicago:20250313T173000
DTEND;TZID=America/Chicago:20250313T200000
DTSTAMP:20260422T025344
CREATED:20250305T005131Z
LAST-MODIFIED:20250305T005131Z
UID:10001256-1741887000-1741896000@valleybusinessreport.com
SUMMARY:"Fortifying your Future" Seminar
DESCRIPTION:Lone Star National Bank’s “Fortifying your Future” on March 13 explores banking\, wealth management\, insurance and economic strategies for small business partners to help build a strong financial future. \nThis seminar covers economic strategies\, to optimizing insurance to your benefit\, business banking resources\, and investment opportunities. \nRegister for this free seminar online or by contacting Yliana Mora at morayl@lonestarnationalbank.com or calling/texting 956-414-6720. \n\n\n	Related
URL:https://valleybusinessreport.com/event/fortifying-your-future-seminar/
LOCATION:Lone Star National Bank – McAllen\, 520 East Nolana Avenue\, McAllen\, United States
CATEGORIES:Seminars and Workshops
ATTACH;FMTTYPE=image/jpeg:https://valleybusinessreport.com/wp-content/uploads/2025/03/Fortifying-Your-Future-Wealth-scaled.jpg
END:VEVENT
BEGIN:VEVENT
DTSTART;TZID=America/Chicago:20240710T110000
DTEND;TZID=America/Chicago:20240710T130000
DTSTAMP:20260422T025345
CREATED:20240627T163635Z
LAST-MODIFIED:20240627T163635Z
UID:10001136-1720609200-1720616400@valleybusinessreport.com
SUMMARY:LSNB Lunch & Learn: Fundamentals of Business Entities and Loan Readiness for Small Business
DESCRIPTION:Lone Star National Bank hosts a complimentary Lunch & Learn seminar on “Fundamentals of Business Entities and Loan Readiness for Small Business” on July 10. \nRSVP by emailing CommunityRelations@lonestarnationalbank.com or by calling 956-414-2051. \n\n\n	Related
URL:https://valleybusinessreport.com/event/lsnb-lunch-learn-fundamentals-of-business-entities-and-loan-readiness-for-small-business/
LOCATION:Lone Star National Bank – McAllen\, 520 East Nolana Avenue\, McAllen\, United States
CATEGORIES:Seminars and Workshops
ATTACH;FMTTYPE=image/jpeg:https://valleybusinessreport.com/wp-content/uploads/2024/06/Small-Business-LSNB.jpg
ORGANIZER;CN="Lone Star National Bank":MAILTO:CommunityRelations@lsnb.com
END:VEVENT
BEGIN:VEVENT
DTSTART;TZID=America/Chicago:20240319T080000
DTEND;TZID=America/Chicago:20240319T170000
DTSTAMP:20260422T025345
CREATED:20240319T195355Z
LAST-MODIFIED:20240319T195355Z
UID:10001103-1710835200-1710867600@valleybusinessreport.com
SUMMARY:Lone Star National Bank Community Shredding Event
DESCRIPTION:Lone Star National Bank’s Community Shredding Event on March 23 helps the public get rid of unwanted documents and protect from fraud. \nThere is a limit of five boxes (30 lbs. each) of documents per vehicle. Electronics recycling is also available. \n\n\n	Related
URL:https://valleybusinessreport.com/event/lone-star-national-bank-community-shredding-event/
LOCATION:Lone Star National Bank – McAllen\, 520 East Nolana Avenue\, McAllen\, United States
ATTACH;FMTTYPE=image/png:https://valleybusinessreport.com/wp-content/uploads/2024/03/ShredEventSMfinal.png
END:VEVENT
END:VCALENDAR