BEGIN:VCALENDAR
VERSION:2.0
PRODID:-//VBR - ECPv6.15.17.1//NONSGML v1.0//EN
CALSCALE:GREGORIAN
METHOD:PUBLISH
X-ORIGINAL-URL:https://valleybusinessreport.com
X-WR-CALDESC:Events for VBR
REFRESH-INTERVAL;VALUE=DURATION:PT1H
X-Robots-Tag:noindex
X-PUBLISHED-TTL:PT1H
BEGIN:VTIMEZONE
TZID:America/Chicago
BEGIN:DAYLIGHT
TZOFFSETFROM:-0600
TZOFFSETTO:-0500
TZNAME:CDT
DTSTART:20200308T080000
END:DAYLIGHT
BEGIN:STANDARD
TZOFFSETFROM:-0500
TZOFFSETTO:-0600
TZNAME:CST
DTSTART:20201101T070000
END:STANDARD
BEGIN:DAYLIGHT
TZOFFSETFROM:-0600
TZOFFSETTO:-0500
TZNAME:CDT
DTSTART:20210314T080000
END:DAYLIGHT
BEGIN:STANDARD
TZOFFSETFROM:-0500
TZOFFSETTO:-0600
TZNAME:CST
DTSTART:20211107T070000
END:STANDARD
BEGIN:DAYLIGHT
TZOFFSETFROM:-0600
TZOFFSETTO:-0500
TZNAME:CDT
DTSTART:20220313T080000
END:DAYLIGHT
BEGIN:STANDARD
TZOFFSETFROM:-0500
TZOFFSETTO:-0600
TZNAME:CST
DTSTART:20221106T070000
END:STANDARD
BEGIN:DAYLIGHT
TZOFFSETFROM:-0600
TZOFFSETTO:-0500
TZNAME:CDT
DTSTART:20230312T080000
END:DAYLIGHT
BEGIN:STANDARD
TZOFFSETFROM:-0500
TZOFFSETTO:-0600
TZNAME:CST
DTSTART:20231105T070000
END:STANDARD
END:VTIMEZONE
BEGIN:VEVENT
DTSTART;TZID=America/Chicago:20220819T200000
DTEND;TZID=America/Chicago:20220819T220000
DTSTAMP:20260422T133330
CREATED:20220813T193510Z
LAST-MODIFIED:20220912T213737Z
UID:10000644-1660939200-1660946400@valleybusinessreport.com
SUMMARY:Food Park Unplugged
DESCRIPTION:Food Park Unplugged takes place every third Friday at McAllen Food Park at 10 North Broadway. The Aug. 19 installment includes the regular lineup of live music and dishes by food truck chefs. Patrons may also shop local craft and collectibles vendors. This event is family and pet friendly. \nFree admission into the park. \nFor more information\, call the McAllen Chamber of Commerce.\n\n\n	Related
URL:https://valleybusinessreport.com/event/food-park-unplugged-10/
LOCATION:McAllen Food Park\, 10 N. Broadway\, McAllen\, 78501\, United States
CATEGORIES:Festivals and Celebrations
ATTACH;FMTTYPE=image/jpeg:https://valleybusinessreport.com/wp-content/uploads/2019/05/McAllenFoodPark.jpg
ORGANIZER;CN="McAllen Chamber of Commerce":MAILTO:bcardenas@mcallenchamber.com
END:VEVENT
BEGIN:VEVENT
DTSTART;TZID=America/Chicago:20220415T200000
DTEND;TZID=America/Chicago:20220415T220000
DTSTAMP:20260422T133330
CREATED:20220401T003759Z
LAST-MODIFIED:20220401T003759Z
UID:10000794-1650052800-1650060000@valleybusinessreport.com
SUMMARY:Food Park Unplugged
DESCRIPTION:Food Park Unplugged takes place April 15 at McAllen Food Park. \nEvery third Friday of the month\, enjoy the sounds of local crooners while feasting on dishes by Food Truck chefs. Take a stroll and do some shopping from local craft and collectibles vendors. This event is family- and pet-friendly. \nFree admission into the park. \n\n\n	Related
URL:https://valleybusinessreport.com/event/food-park-unplugged-9/
LOCATION:McAllen Food Park\, 10 N. Broadway\, McAllen\, 78501\, United States
CATEGORIES:Festivals and Celebrations
ATTACH;FMTTYPE=image/jpeg:https://valleybusinessreport.com/wp-content/uploads/2019/05/McAllenFoodPark.jpg
ORGANIZER;CN="McAllen Chamber of Commerce":MAILTO:bcardenas@mcallenchamber.com
END:VEVENT
BEGIN:VEVENT
DTSTART;TZID=America/Chicago:20220318T200000
DTEND;TZID=America/Chicago:20220318T220000
DTSTAMP:20260422T133330
CREATED:20220308T155403Z
LAST-MODIFIED:20220308T155403Z
UID:10000779-1647633600-1647640800@valleybusinessreport.com
SUMMARY:Food Park Unplugged
DESCRIPTION:Food Park Unplugged takes place March 18 at McAllen Food Park. \nEvery third Friday of the month\, enjoy the sounds of local crooners while feasting on dishes by Food Truck chefs. Take a stroll and do some shopping from local craft and collectibles vendors. This event is family- and pet-friendly. \nFree admission into the park. \n\n\n	Related
URL:https://valleybusinessreport.com/event/food-park-unplugged-8/
LOCATION:McAllen Food Park\, 10 N. Broadway\, McAllen\, 78501\, United States
CATEGORIES:Festivals and Celebrations
ATTACH;FMTTYPE=image/jpeg:https://valleybusinessreport.com/wp-content/uploads/2019/05/McAllenFoodPark.jpg
ORGANIZER;CN="McAllen Chamber of Commerce":MAILTO:bcardenas@mcallenchamber.com
END:VEVENT
BEGIN:VEVENT
DTSTART;TZID=America/Chicago:20220218T200000
DTEND;TZID=America/Chicago:20220218T220000
DTSTAMP:20260422T133330
CREATED:20220209T195205Z
LAST-MODIFIED:20220209T195436Z
UID:10000734-1645214400-1645221600@valleybusinessreport.com
SUMMARY:Food Park Unplugged
DESCRIPTION:Food Park Unplugged takes place Feb. 18 at McAllen Food Park. Every third Friday of the month\, enjoy the sounds of local crooners while feasting on dishes by Food Truck chefs. Take a stroll and do some shopping from local craft and collectibles vendors. This event is family- and pet-friendly. \nFree admission into the park. \n\n\n\n\n	Related
URL:https://valleybusinessreport.com/event/food-park-unplugged-7/
LOCATION:McAllen Food Park\, 10 N. Broadway\, McAllen\, 78501\, United States
CATEGORIES:Festivals and Celebrations
ATTACH;FMTTYPE=image/jpeg:https://valleybusinessreport.com/wp-content/uploads/2019/05/McAllenFoodPark.jpg
ORGANIZER;CN="McAllen Chamber of Commerce":MAILTO:bcardenas@mcallenchamber.com
END:VEVENT
BEGIN:VEVENT
DTSTART;TZID=America/Chicago:20211217T200000
DTEND;TZID=America/Chicago:20211217T220000
DTSTAMP:20260422T133330
CREATED:20211208T194535Z
LAST-MODIFIED:20211208T194950Z
UID:10000652-1639771200-1639778400@valleybusinessreport.com
SUMMARY:Food Park Unplugged
DESCRIPTION:Food Park Unplugged takes place Dec. 17 at McAllen Food Park. Every third Friday of the month\, enjoy the sounds of local crooners while feasting on dishes by Food Truck chefs. Take a stroll and do some shopping from local craft and collectibles vendors. This event is family- and pet-friendly. \nFree admission into the park. \n\n\n\n\n	Related
URL:https://valleybusinessreport.com/event/food-park-unplugged-6/
LOCATION:McAllen Food Park\, 10 N. Broadway\, McAllen\, 78501\, United States
CATEGORIES:Festivals and Celebrations
ATTACH;FMTTYPE=image/jpeg:https://valleybusinessreport.com/wp-content/uploads/2019/05/McAllenFoodPark.jpg
ORGANIZER;CN="McAllen Chamber of Commerce":MAILTO:bcardenas@mcallenchamber.com
END:VEVENT
BEGIN:VEVENT
DTSTART;TZID=America/Chicago:20211119T200000
DTEND;TZID=America/Chicago:20211119T220000
DTSTAMP:20260422T133330
CREATED:20211102T164347Z
LAST-MODIFIED:20211102T164347Z
UID:10000648-1637352000-1637359200@valleybusinessreport.com
SUMMARY:Food Park Unplugged
DESCRIPTION:Food Park Unplugged takes place Nov. 19 at McAllen Food Park. Every third Friday of the month\, enjoy the sounds of local crooners while feasting on dishes by Food Truck chefs. Take a stroll and do some shopping from local craft and collectibles vendors. This event is family- and pet-friendly. \nFree admission into the park. \n\n\n\n\n	Related
URL:https://valleybusinessreport.com/event/food-park-unplugged-5/
LOCATION:McAllen Food Park\, 10 N. Broadway\, McAllen\, 78501\, United States
CATEGORIES:Entertainment
ATTACH;FMTTYPE=image/jpeg:https://valleybusinessreport.com/wp-content/uploads/2019/05/McAllenFoodPark.jpg
ORGANIZER;CN="McAllen Chamber of Commerce":MAILTO:bcardenas@mcallenchamber.com
END:VEVENT
BEGIN:VEVENT
DTSTART;TZID=America/Chicago:20211015T200000
DTEND;TZID=America/Chicago:20211015T220000
DTSTAMP:20260422T133330
CREATED:20210905T172752Z
LAST-MODIFIED:20210915T211715Z
UID:10000612-1634328000-1634335200@valleybusinessreport.com
SUMMARY:Food Park Unplugged
DESCRIPTION:Food Park Unplugged takes place Oct. 15 at McAllen Food Park. Every third Friday of the month\, enjoy the sounds of local crooners while feasting on dishes by Food Truck chefs. Take a stroll and do some shopping from local craft and collectibles vendors. This event is family- and pet-friendly. \nFree admission into the park. \n\n\n\n\n	Related
URL:https://valleybusinessreport.com/event/food-park-unplugged_sept2021-2021-10-15/
LOCATION:McAllen Food Park\, 10 N. Broadway\, McAllen\, 78501\, United States
CATEGORIES:Festivals and Celebrations
ATTACH;FMTTYPE=image/jpeg:https://valleybusinessreport.com/wp-content/uploads/2019/05/McAllenFoodPark.jpg
ORGANIZER;CN="McAllen Chamber of Commerce":MAILTO:bcardenas@mcallenchamber.com
END:VEVENT
BEGIN:VEVENT
DTSTART;TZID=America/Chicago:20210917T200000
DTEND;TZID=America/Chicago:20210917T220000
DTSTAMP:20260422T133330
CREATED:20210905T172752Z
LAST-MODIFIED:20210915T211602Z
UID:10000610-1631908800-1631916000@valleybusinessreport.com
SUMMARY:Food Park Unplugged
DESCRIPTION:Food Park Unplugged takes place Sept. 17 at McAllen Food Park. Every third Friday of the month\, enjoy the sounds of local crooners while feasting on dishes by Food Truck chefs. Take a stroll and do some shopping from local craft and collectibles vendors. This event is family- and pet-friendly. \nFree admission into the park. \n\n\n\n\n	Related
URL:https://valleybusinessreport.com/event/food-park-unplugged_sept2021/2021-09-17/
LOCATION:McAllen Food Park\, 10 N. Broadway\, McAllen\, 78501\, United States
CATEGORIES:Festivals and Celebrations
ATTACH;FMTTYPE=image/jpeg:https://valleybusinessreport.com/wp-content/uploads/2019/05/McAllenFoodPark.jpg
ORGANIZER;CN="McAllen Chamber of Commerce":MAILTO:bcardenas@mcallenchamber.com
END:VEVENT
BEGIN:VEVENT
DTSTART;TZID=America/Chicago:20210820T200000
DTEND;TZID=America/Chicago:20210820T220000
DTSTAMP:20260422T133330
CREATED:20210818T185040Z
LAST-MODIFIED:20210818T185310Z
UID:10000493-1629489600-1629496800@valleybusinessreport.com
SUMMARY:Food Park Unplugged
DESCRIPTION:Food Park Unplugged takes place Aug. 20 at McAllen Food Park. Every third Friday of the month\, enjoy the sounds of local crooners while feasting on dishes by Food Truck chefs. Take a stroll and do some shopping from local craft and collectibles vendors. This event is family- and pet-friendly. \nFree admission into the park. \n\n\n\n\n	Related
URL:https://valleybusinessreport.com/event/25135/
LOCATION:McAllen Food Park\, 10 N. Broadway\, McAllen\, 78501\, United States
CATEGORIES:Entertainment
ATTACH;FMTTYPE=image/jpeg:https://valleybusinessreport.com/wp-content/uploads/2019/05/McAllenFoodPark.jpg
ORGANIZER;CN="McAllen Chamber of Commerce":MAILTO:bcardenas@mcallenchamber.com
END:VEVENT
BEGIN:VEVENT
DTSTART;TZID=America/Chicago:20210716T200000
DTEND;TZID=America/Chicago:20210716T220000
DTSTAMP:20260422T133330
CREATED:20210301T202750Z
LAST-MODIFIED:20210627T152839Z
UID:10000543-1626465600-1626472800@valleybusinessreport.com
SUMMARY:Food Park Unplugged
DESCRIPTION:Food Park Unplugged takes place July 16 at McAllen Food Park. Every third Friday of the month\, enjoy the sounds of local crooners while feasting on dishes by Food Truck chefs. Take a stroll and do some shopping from local craft and collectibles vendors. This event is family- and pet-friendly. \nFree admission into the park. \n\n\n\n\n	Related
URL:https://valleybusinessreport.com/event/food-park-unplugged-7-16-21/
LOCATION:McAllen Food Park\, 10 N. Broadway\, McAllen\, 78501\, United States
CATEGORIES:Entertainment
ATTACH;FMTTYPE=image/jpeg:https://valleybusinessreport.com/wp-content/uploads/2019/05/McAllenFoodPark.jpg
ORGANIZER;CN="McAllen Chamber of Commerce":MAILTO:bcardenas@mcallenchamber.com
END:VEVENT
END:VCALENDAR