BEGIN:VCALENDAR
VERSION:2.0
PRODID:-//VBR - ECPv6.15.17.1//NONSGML v1.0//EN
CALSCALE:GREGORIAN
METHOD:PUBLISH
X-WR-CALNAME:VBR
X-ORIGINAL-URL:https://valleybusinessreport.com
X-WR-CALDESC:Events for VBR
REFRESH-INTERVAL;VALUE=DURATION:PT1H
X-Robots-Tag:noindex
X-PUBLISHED-TTL:PT1H
BEGIN:VTIMEZONE
TZID:America/Chicago
BEGIN:DAYLIGHT
TZOFFSETFROM:-0600
TZOFFSETTO:-0500
TZNAME:CDT
DTSTART:20210314T080000
END:DAYLIGHT
BEGIN:STANDARD
TZOFFSETFROM:-0500
TZOFFSETTO:-0600
TZNAME:CST
DTSTART:20211107T070000
END:STANDARD
BEGIN:DAYLIGHT
TZOFFSETFROM:-0600
TZOFFSETTO:-0500
TZNAME:CDT
DTSTART:20220313T080000
END:DAYLIGHT
BEGIN:STANDARD
TZOFFSETFROM:-0500
TZOFFSETTO:-0600
TZNAME:CST
DTSTART:20221106T070000
END:STANDARD
BEGIN:DAYLIGHT
TZOFFSETFROM:-0600
TZOFFSETTO:-0500
TZNAME:CDT
DTSTART:20230312T080000
END:DAYLIGHT
BEGIN:STANDARD
TZOFFSETFROM:-0500
TZOFFSETTO:-0600
TZNAME:CST
DTSTART:20231105T070000
END:STANDARD
END:VTIMEZONE
BEGIN:VEVENT
DTSTART;TZID=America/Chicago:20220818T180000
DTEND;TZID=America/Chicago:20220818T193000
DTSTAMP:20260421T045227
CREATED:20220808T154653Z
LAST-MODIFIED:20220808T154653Z
UID:10000636-1660845600-1660851000@valleybusinessreport.com
SUMMARY:McAllen ISD Town Hall Meeting: Safety & Security
DESCRIPTION:Join McAllen ISD on Aug. 18 for a presentation and discussion on safety and security measures the district has in place for the protection of students and staff at the schools. \nThis event is free at the McAllen High School Auditorium. \nFor more information\, call 956-928-8990.\n\n\n	Related
URL:https://valleybusinessreport.com/event/mcallen-isd-town-hall-meeting-safety-security/
LOCATION:McAllen High School Auditorium\, 2021 La Vista Ave.\, McAllen\, TX\, United States
CATEGORIES:Speakers
ATTACH;FMTTYPE=image/png:https://valleybusinessreport.com/wp-content/uploads/2022/08/McAllen-ISD-town-hall.png
END:VEVENT
END:VCALENDAR