BEGIN:VCALENDAR
VERSION:2.0
PRODID:-//VBR - ECPv6.15.17.1//NONSGML v1.0//EN
CALSCALE:GREGORIAN
METHOD:PUBLISH
X-ORIGINAL-URL:https://valleybusinessreport.com
X-WR-CALDESC:Events for VBR
REFRESH-INTERVAL;VALUE=DURATION:PT1H
X-Robots-Tag:noindex
X-PUBLISHED-TTL:PT1H
BEGIN:VTIMEZONE
TZID:America/Chicago
BEGIN:DAYLIGHT
TZOFFSETFROM:-0600
TZOFFSETTO:-0500
TZNAME:CDT
DTSTART:20210314T080000
END:DAYLIGHT
BEGIN:STANDARD
TZOFFSETFROM:-0500
TZOFFSETTO:-0600
TZNAME:CST
DTSTART:20211107T070000
END:STANDARD
BEGIN:DAYLIGHT
TZOFFSETFROM:-0600
TZOFFSETTO:-0500
TZNAME:CDT
DTSTART:20220313T080000
END:DAYLIGHT
BEGIN:STANDARD
TZOFFSETFROM:-0500
TZOFFSETTO:-0600
TZNAME:CST
DTSTART:20221106T070000
END:STANDARD
BEGIN:DAYLIGHT
TZOFFSETFROM:-0600
TZOFFSETTO:-0500
TZNAME:CDT
DTSTART:20230312T080000
END:DAYLIGHT
BEGIN:STANDARD
TZOFFSETFROM:-0500
TZOFFSETTO:-0600
TZNAME:CST
DTSTART:20231105T070000
END:STANDARD
END:VTIMEZONE
BEGIN:VEVENT
DTSTART;VALUE=DATE:20220305
DTEND;VALUE=DATE:20220306
DTSTAMP:20260421T050822
CREATED:20220113T143703Z
LAST-MODIFIED:20220113T143841Z
UID:10000705-1646438400-1646524799@valleybusinessreport.com
SUMMARY:Arbor Day Celebration
DESCRIPTION:Keep McAllen Beautiful hosts its in-person Arbor Day Celebration March 5\, with a 5K\, 10K\, kids 2K and 25-mile bike ride and social bike ride. The celebration also includes educational booths and tree workshops. \nRegister for run and biking events online. \n\n\n	Related
URL:https://valleybusinessreport.com/event/arbor-day-celebration/
LOCATION:McAllen Munical Park\, 1921 North Bicentennial Blvd.\, McAllen\, TX\, 78501\, United States
CATEGORIES:Festivals and Celebrations
ATTACH;FMTTYPE=image/jpeg:https://valleybusinessreport.com/wp-content/uploads/2022/01/Arbor-Day-Celebration-2022.jpg
ORGANIZER;CN="Keep McAllen Beautiful":MAILTO:kmb@mcallen.net
END:VEVENT
END:VCALENDAR