BEGIN:VCALENDAR
VERSION:2.0
PRODID:-//VBR - ECPv6.15.17.1//NONSGML v1.0//EN
CALSCALE:GREGORIAN
METHOD:PUBLISH
X-WR-CALNAME:VBR
X-ORIGINAL-URL:https://valleybusinessreport.com
X-WR-CALDESC:Events for VBR
REFRESH-INTERVAL;VALUE=DURATION:PT1H
X-Robots-Tag:noindex
X-PUBLISHED-TTL:PT1H
BEGIN:VTIMEZONE
TZID:America/Chicago
BEGIN:DAYLIGHT
TZOFFSETFROM:-0600
TZOFFSETTO:-0500
TZNAME:CDT
DTSTART:20230312T080000
END:DAYLIGHT
BEGIN:STANDARD
TZOFFSETFROM:-0500
TZOFFSETTO:-0600
TZNAME:CST
DTSTART:20231105T070000
END:STANDARD
BEGIN:DAYLIGHT
TZOFFSETFROM:-0600
TZOFFSETTO:-0500
TZNAME:CDT
DTSTART:20240310T080000
END:DAYLIGHT
BEGIN:STANDARD
TZOFFSETFROM:-0500
TZOFFSETTO:-0600
TZNAME:CST
DTSTART:20241103T070000
END:STANDARD
BEGIN:DAYLIGHT
TZOFFSETFROM:-0600
TZOFFSETTO:-0500
TZNAME:CDT
DTSTART:20250309T080000
END:DAYLIGHT
BEGIN:STANDARD
TZOFFSETFROM:-0500
TZOFFSETTO:-0600
TZNAME:CST
DTSTART:20251102T070000
END:STANDARD
END:VTIMEZONE
BEGIN:VEVENT
DTSTART;TZID=America/Chicago:20241116T183000
DTEND;TZID=America/Chicago:20241116T183000
DTSTAMP:20260421T114237
CREATED:20241026T123359Z
LAST-MODIFIED:20241026T123425Z
UID:10001208-1731781800-1731781800@valleybusinessreport.com
SUMMARY:Edinburg Chamber Installation & Awards Banquet
DESCRIPTION:The Edinburg Chamber of Commerce hosts its 92nd annual Installation & Awards Banquet on Nov. 16\, honoring Immediate Past President Kelly Rivera Salazar and welcoming Ruben James De Jesus as the new president of the board. \nThe event will celebrate a year of achievements and recognize outstanding community leaders. \nFor more information\, contact the chamber. \n\n\n	Related
URL:https://valleybusinessreport.com/event/edinburg-chamber-installation-awards-banquet-3/
LOCATION:Memorial Event Center\, 300 E Canton Road\, Edinburg\, TX\, United States
CATEGORIES:Awards and Recognitions
ATTACH;FMTTYPE=image/jpeg:https://valleybusinessreport.com/wp-content/uploads/2024/10/edinburg-banquet-2024.jpg
ORGANIZER;CN="Edinburg Chamber of Commerce":MAILTO:chamber@edinburg.com
END:VEVENT
END:VCALENDAR