BEGIN:VCALENDAR
VERSION:2.0
PRODID:-//VBR - ECPv6.15.17.1//NONSGML v1.0//EN
CALSCALE:GREGORIAN
METHOD:PUBLISH
X-WR-CALNAME:VBR
X-ORIGINAL-URL:https://valleybusinessreport.com
X-WR-CALDESC:Events for VBR
REFRESH-INTERVAL;VALUE=DURATION:PT1H
X-Robots-Tag:noindex
X-PUBLISHED-TTL:PT1H
BEGIN:VTIMEZONE
TZID:America/Chicago
BEGIN:DAYLIGHT
TZOFFSETFROM:-0600
TZOFFSETTO:-0500
TZNAME:CDT
DTSTART:20200308T080000
END:DAYLIGHT
BEGIN:STANDARD
TZOFFSETFROM:-0500
TZOFFSETTO:-0600
TZNAME:CST
DTSTART:20201101T070000
END:STANDARD
BEGIN:DAYLIGHT
TZOFFSETFROM:-0600
TZOFFSETTO:-0500
TZNAME:CDT
DTSTART:20210314T080000
END:DAYLIGHT
BEGIN:STANDARD
TZOFFSETFROM:-0500
TZOFFSETTO:-0600
TZNAME:CST
DTSTART:20211107T070000
END:STANDARD
BEGIN:DAYLIGHT
TZOFFSETFROM:-0600
TZOFFSETTO:-0500
TZNAME:CDT
DTSTART:20220313T080000
END:DAYLIGHT
BEGIN:STANDARD
TZOFFSETFROM:-0500
TZOFFSETTO:-0600
TZNAME:CST
DTSTART:20221106T070000
END:STANDARD
BEGIN:DAYLIGHT
TZOFFSETFROM:-0600
TZOFFSETTO:-0500
TZNAME:CDT
DTSTART:20230312T080000
END:DAYLIGHT
BEGIN:STANDARD
TZOFFSETFROM:-0500
TZOFFSETTO:-0600
TZNAME:CST
DTSTART:20231105T070000
END:STANDARD
BEGIN:DAYLIGHT
TZOFFSETFROM:-0600
TZOFFSETTO:-0500
TZNAME:CDT
DTSTART:20240310T080000
END:DAYLIGHT
BEGIN:STANDARD
TZOFFSETFROM:-0500
TZOFFSETTO:-0600
TZNAME:CST
DTSTART:20241103T070000
END:STANDARD
BEGIN:DAYLIGHT
TZOFFSETFROM:-0600
TZOFFSETTO:-0500
TZNAME:CDT
DTSTART:20250309T080000
END:DAYLIGHT
BEGIN:STANDARD
TZOFFSETFROM:-0500
TZOFFSETTO:-0600
TZNAME:CST
DTSTART:20251102T070000
END:STANDARD
BEGIN:DAYLIGHT
TZOFFSETFROM:-0600
TZOFFSETTO:-0500
TZNAME:CDT
DTSTART:20260308T080000
END:DAYLIGHT
BEGIN:STANDARD
TZOFFSETFROM:-0500
TZOFFSETTO:-0600
TZNAME:CST
DTSTART:20261101T070000
END:STANDARD
BEGIN:DAYLIGHT
TZOFFSETFROM:-0600
TZOFFSETTO:-0500
TZNAME:CDT
DTSTART:20270314T080000
END:DAYLIGHT
BEGIN:STANDARD
TZOFFSETFROM:-0500
TZOFFSETTO:-0600
TZNAME:CST
DTSTART:20271107T070000
END:STANDARD
END:VTIMEZONE
BEGIN:VEVENT
DTSTART;TZID=America/Chicago:20260218T110000
DTEND;TZID=America/Chicago:20260218T130000
DTSTAMP:20260422T042418
CREATED:20260211T134246Z
LAST-MODIFIED:20260211T134246Z
UID:10001351-1771412400-1771419600@valleybusinessreport.com
SUMMARY:Buenas Tardes Luncheon - State of International Affairs
DESCRIPTION:Join the Mission Chamber of Commerce for its signature Buenas Tardes Luncheon on Feb. 18 for an in-depth discussion on the state of international affairs. \nThe distinguished panel includes representatives from the Federal Reserve Bank of Dallas\, RioPlex and Texas Regional Bank. The program will also include special remarks from Congressman Henry Cuellar and is moderated by Deborah Lee Cordova\, founding member of Walsh | McGurk | Cordova | Nixon. \n\n\n	Related
URL:https://valleybusinessreport.com/event/buenas-tardes-luncheon-state-of-international-affairs/
LOCATION:Mission Event Center\, 200 South Shary Road\, Mission\, TX\, 78572\, United States
CATEGORIES:Speakers
ATTACH;FMTTYPE=image/jpeg:https://valleybusinessreport.com/wp-content/uploads/2026/02/Buenas-Tardes-Luncheon.jpg
END:VEVENT
BEGIN:VEVENT
DTSTART;VALUE=DATE:20260113
DTEND;VALUE=DATE:20260115
DTSTAMP:20260422T042418
CREATED:20260107T020437Z
LAST-MODIFIED:20260107T020437Z
UID:10001341-1768262400-1768435199@valleybusinessreport.com
SUMMARY:Mission Community Health & Wellness Fair
DESCRIPTION:The annual Mission Community Health & Wellness Fair takes place Jan. 13 and Jan. 14 from 7-11 a.m. daily. The event includes free health services like flu vaccines\, blood pressure checks\, stroke risk assessments\, bone density tests\, and more. \nThis event is a partnership between the Mission Chamber of Commerce\, Mission Regional Medical Center and the City of Mission. \nAttendees may register for a blood work appointment online. \n\n\n	Related
URL:https://valleybusinessreport.com/event/mission-community-health-wellness-fair/
LOCATION:Mission Event Center\, 200 South Shary Road\, Mission\, TX\, 78572\, United States
CATEGORIES:Conferences and Summits
ATTACH;FMTTYPE=image/jpeg:https://valleybusinessreport.com/wp-content/uploads/2026/01/mission-health-fair.jpg
END:VEVENT
BEGIN:VEVENT
DTSTART;TZID=America/Chicago:20251009T180000
DTEND;TZID=America/Chicago:20251009T210000
DTSTAMP:20260422T042418
CREATED:20251001T114215Z
LAST-MODIFIED:20251001T114215Z
UID:10001322-1760032800-1760043600@valleybusinessreport.com
SUMMARY:Moonlight and Milestones - Annual Business Awards Banquet
DESCRIPTION:Join the Mission Chamber of Commerce for the 2025 “Moonlight and Milestones” Annual Business Awards Banquet on Oct. 9 at the Mission Event Center. \nSponsorship opportunities are available. Call 956-585-2727 or email vanessanichole@missionchamber.com for more information. \n\n\n	Related
URL:https://valleybusinessreport.com/event/moonlight-and-milestones-annual-business-awards-banquet/
LOCATION:Mission Event Center\, 200 South Shary Road\, Mission\, TX\, 78572\, United States
CATEGORIES:Awards and Recognitions
ATTACH;FMTTYPE=image/png:https://valleybusinessreport.com/wp-content/uploads/2025/10/2025AnnualBusinessAwardsBanquet.png
END:VEVENT
BEGIN:VEVENT
DTSTART;TZID=America/Chicago:20250813T113000
DTEND;TZID=America/Chicago:20250813T130000
DTSTAMP:20260422T042418
CREATED:20250719T210547Z
LAST-MODIFIED:20250719T210547Z
UID:10001305-1755084600-1755090000@valleybusinessreport.com
SUMMARY:Buenas Tardes Luncheon: State of Current Business
DESCRIPTION:Join the Mission Chamber of Commerce on Aug. 13 for the Buenas Tardes Luncheon: State of Current Business. The insightful luncheon highlights updates on the legislative issues shaping the future of the business community. \nRegister online. \n\n\n	Related
URL:https://valleybusinessreport.com/event/buenas-tardes-luncheon-state-of-current-business/
LOCATION:Mission Event Center\, 200 South Shary Road\, Mission\, TX\, 78572\, United States
CATEGORIES:Speakers
ATTACH;FMTTYPE=image/png:https://valleybusinessreport.com/wp-content/uploads/2025/07/2025AUGUSTBTL.png
END:VEVENT
BEGIN:VEVENT
DTSTART;TZID=America/Chicago:20250507T160000
DTEND;TZID=America/Chicago:20250507T180000
DTSTAMP:20260422T042418
CREATED:20250429T012845Z
LAST-MODIFIED:20250429T012845Z
UID:10001275-1746633600-1746640800@valleybusinessreport.com
SUMMARY:GMCC Milestone Celebration
DESCRIPTION:The Greater Mission Chamber of Commerce is now officially an Accredited Chamber of Commerce and will celebrate this milestone with the public on May 7. \nJoin the chamber for an afternoon of celebration\, networking\, and appreciation for the members and community that made this achievement possible. \nRSVP online. \n\n\n	Related
URL:https://valleybusinessreport.com/event/gmcc-milestone-celebration/
LOCATION:Mission Event Center\, 200 South Shary Road\, Mission\, TX\, 78572\, United States
CATEGORIES:Festivals and Celebrations
ATTACH;FMTTYPE=image/jpeg:https://valleybusinessreport.com/wp-content/uploads/2025/04/GMCC-Milestone.jpg
END:VEVENT
BEGIN:VEVENT
DTSTART;TZID=America/Chicago:20250506T183000
DTEND;TZID=America/Chicago:20250506T200000
DTSTAMP:20260422T042418
CREATED:20250429T012300Z
LAST-MODIFIED:20250429T012300Z
UID:10001274-1746556200-1746561600@valleybusinessreport.com
SUMMARY:Mayor's Annual Evening of Prayer
DESCRIPTION:Join the Greater Mission Chamber of Commerce and local ministries on May 9 for the Mayor’s Annual Evening of Prayer. Unite in faith and community during a powerful night of prayer and reflection in observance of the National Day of Prayer. \nLight refreshments are provided\, event is open to all. Come together in prayer for leaders\, the city and the future. \nRegister online. \n\n\n	Related
URL:https://valleybusinessreport.com/event/mayors-annual-evening-of-prayer/
LOCATION:Mission Event Center\, 200 South Shary Road\, Mission\, TX\, 78572\, United States
CATEGORIES:Festivals and Celebrations
ATTACH;FMTTYPE=image/jpeg:https://valleybusinessreport.com/wp-content/uploads/2025/04/mayorprayer_mission.jpg
END:VEVENT
BEGIN:VEVENT
DTSTART;TZID=America/Chicago:20250319T180000
DTEND;TZID=America/Chicago:20250319T213000
DTSTAMP:20260422T042418
CREATED:20250305T011334Z
LAST-MODIFIED:20250305T011334Z
UID:10001259-1742407200-1742419800@valleybusinessreport.com
SUMMARY:Hats Off to Women of Distinction Dinner & Expo 2025
DESCRIPTION:Join the RGV Hispanic Chamber of Commerce on March 19 for the Hats Off to Women of Distinction Dinner & Expo. The event serves as a gathering of accomplished businesswomen as their successes are commemorated. \nThis event offers a unique opportunity to engage in networking\, explore curated shopping experiences\, and gain valuable insights for business creation and expansion. Additionally\, attendees will have the chance to stay on the forefront of fashion trends by showcasing the latest in Kentucky Derby Hat styles. \nAdmission is $50 per person or $600 for a reserved table of eight. \nRegister online. \n\n\n	Related
URL:https://valleybusinessreport.com/event/hats-off-to-women-of-distinction-dinner-expo-2025/
LOCATION:Mission Event Center\, 200 South Shary Road\, Mission\, TX\, 78572\, United States
CATEGORIES:Awards and Recognitions
ATTACH;FMTTYPE=image/png:https://valleybusinessreport.com/wp-content/uploads/2025/03/Hats-off-2025.png
END:VEVENT
BEGIN:VEVENT
DTSTART;TZID=America/Chicago:20250205T113000
DTEND;TZID=America/Chicago:20250205T130000
DTSTAMP:20260422T042418
CREATED:20250127T023141Z
LAST-MODIFIED:20250127T023426Z
UID:10001239-1738755000-1738760400@valleybusinessreport.com
SUMMARY:Buenas Tardes Luncheon: State of Hospitality & Tourism
DESCRIPTION:The Greater Mission Chamber of Commerce hosts its Buenas Tardes Luncheon on Feb. 5\, highlighting the latest developments and opportunities in the hospitality and tourism industry. \nRegister online. \n\n\n	Related
URL:https://valleybusinessreport.com/event/buenas-tardes-luncheon-state-of-hospitality-tourism/
LOCATION:Mission Event Center\, 200 South Shary Road\, Mission\, TX\, 78572\, United States
CATEGORIES:Speakers
ATTACH;FMTTYPE=image/png:https://valleybusinessreport.com/wp-content/uploads/2025/01/BuenasTardes_Feb2025.png
END:VEVENT
BEGIN:VEVENT
DTSTART;TZID=America/Chicago:20241003T180000
DTEND;TZID=America/Chicago:20241003T213000
DTSTAMP:20260422T042418
CREATED:20240916T153432Z
LAST-MODIFIED:20240916T153432Z
UID:10001178-1727978400-1727991000@valleybusinessreport.com
SUMMARY:GMCC Annual Member Gala
DESCRIPTION:Join the Greater Mission Chamber of Commerce for its 2024 gala\, “A Night in the Secret Garden\,” on Oct. 3 at the Mission Event Center. \nThe evening includes a cocktail reception\, silent auction\, music\, dinner and an awards program. \nSponsorship opportunities are available. Call 956-585-2727 or email vanessanichole@missionchamber.com for more information. \n\n\n	Related
URL:https://valleybusinessreport.com/event/gmcc-annual-member-gala/
LOCATION:Mission Event Center\, 200 South Shary Road\, Mission\, TX\, 78572\, United States
CATEGORIES:Awards and Recognitions
ATTACH;FMTTYPE=image/png:https://valleybusinessreport.com/wp-content/uploads/2024/09/2024GalaSecretGarden.png
END:VEVENT
BEGIN:VEVENT
DTSTART;VALUE=DATE:20240926
DTEND;VALUE=DATE:20240928
DTSTAMP:20260422T042418
CREATED:20240916T162759Z
LAST-MODIFIED:20240916T162759Z
UID:10001184-1727308800-1727481599@valleybusinessreport.com
SUMMARY:7th Annual South Texas Adolescent Health Summit
DESCRIPTION:The seventh annual South Texas Adolescent Health Summit on Sept. 26 and Sept. 27 targets highly focused professionals from the Rio Grande Valley\, including social workers\, clinicians\, counselors\, researchers\, practitioners\, educators and youth service professionals who serve young people in this region of Texas. \nThis continuing education opportunity allows participants to receive valuable continuing education and have the opportunity to gain and refine skills while networking with colleagues. \nThe goal of the South Texas Summit is to increase knowledge\, skills and abilities among adults who provide services and support to adolescents on the Texas – Mexico Border about adolescent development\, positive youth development\, adolescent-friendly services\, and how to apply the quality components of care through the stages of adolescence. \nRegistration is $75 and included up to seven hours total of continuing education credits. \nRegistration and further information is available online.\n\n\n	Related
URL:https://valleybusinessreport.com/event/7th-annual-south-texas-adolescent-health-summit/
LOCATION:Mission Event Center\, 200 South Shary Road\, Mission\, TX\, 78572\, United States
CATEGORIES:Conferences and Summits
ATTACH;FMTTYPE=image/jpeg:https://valleybusinessreport.com/wp-content/uploads/2024/09/health-summit.jpg
END:VEVENT
BEGIN:VEVENT
DTSTART;TZID=America/Chicago:20240918T080000
DTEND;TZID=America/Chicago:20240918T170000
DTSTAMP:20260422T042418
CREATED:20240826T002504Z
LAST-MODIFIED:20240826T002504Z
UID:10001168-1726646400-1726678800@valleybusinessreport.com
SUMMARY:Latina Leadership Conference 2024 "Con Fuerza y Corazon"
DESCRIPTION:Join the RGV Hispanic Chamber of Commerce as it unites experts\, entrepreneurs and innovators from diverse backgrounds at the Latina Leadership Conference on Sept. 18. \nThe event promises participants a full day of inspiring insights and interactive workshops led by keynote speakers and influential Latina leaders hailing from across the RGV. Participants can expect an enriching experience of high-level discussions on women’s leadership\, networking opportunities\, small business mentorship sessions and expansions on professional knowledge. \nFurthermore\, attendees will have the chance to explore a vibrant marketplace featuring 20 local vendors offering a variety of goods and services\, supporting small businesses while connecting with like-minded individuals. Every participant will receive a goody bag filled with surprises to enhance the conference experience. \n\nRegistration is $50 for individuals; $600 for a reserved table seating eight. \nRegistration\, session topics and sponsorship opportunities are available online. \n\n\n\n	Related
URL:https://valleybusinessreport.com/event/latina-leadership-conference-2024-con-fuerza-y-corazon/
LOCATION:Mission Event Center\, 200 South Shary Road\, Mission\, TX\, 78572\, United States
CATEGORIES:Conferences and Summits
ATTACH;FMTTYPE=image/png:https://valleybusinessreport.com/wp-content/uploads/2024/08/Latina-Leadership.png
END:VEVENT
BEGIN:VEVENT
DTSTART;TZID=America/Chicago:20240814T113000
DTEND;TZID=America/Chicago:20240814T130000
DTSTAMP:20260422T042418
CREATED:20240725T150403Z
LAST-MODIFIED:20240725T150403Z
UID:10001150-1723635000-1723640400@valleybusinessreport.com
SUMMARY:Buenas Tardes Luncheon - State of Education
DESCRIPTION:The Greater Mission Chamber of Commerce hosts its Buenas Tardes Luncheon: State of Education on Aug. 14 at the Mission Event Center. The event brings together local leaders to delve into the critical topic of strengthening the community through enhanced education and financial literacy. \nThis luncheon presents a unique opportunity for business leaders\, educators\, policymakers and community members to come together and engage in meaningful dialogue. Through collaborative efforts\, we can create a stronger\, more educated\, and financially literate community. \nTickets are $50 with sponsorships available. \nRegister online. \n\n\n	Related
URL:https://valleybusinessreport.com/event/buenas-tardes-luncheon-state-of-education-2/
LOCATION:Mission Event Center\, 200 South Shary Road\, Mission\, TX\, 78572\, United States
CATEGORIES:Speakers
ATTACH;FMTTYPE=image/png:https://valleybusinessreport.com/wp-content/uploads/2024/07/StateofEducation2024.png
END:VEVENT
BEGIN:VEVENT
DTSTART;TZID=America/Chicago:20240215T110000
DTEND;TZID=America/Chicago:20240215T133000
DTSTAMP:20260422T042418
CREATED:20240205T145651Z
LAST-MODIFIED:20240205T145717Z
UID:10001083-1707994800-1708003800@valleybusinessreport.com
SUMMARY:Buenas Tardes Luncheon - Community Leader Spotlight
DESCRIPTION:Join the Greater Mission Chamber of Commerce on Feb. 15 for another ‘Buenas Tardes Luncheon’ to hear insights from Industry Training and Economic Development experts at the Mission EDC\, South Texas College and local businesses. \nLeading the conversation is Senior VP & Director of Business Development at Lone Star National Bank and former Texas Workforce Commissioner Julian Alvarez. \nFor more information\, contact the Greater Mission Chamber of Commerce via phone or email candace@missionchamber.com. \n\n\n	Related
URL:https://valleybusinessreport.com/event/buenas-tardes-luncheon-community-leader-spotlight-2/
LOCATION:Mission Event Center\, 200 South Shary Road\, Mission\, TX\, 78572\, United States
CATEGORIES:Speakers
ATTACH;FMTTYPE=image/jpeg:https://valleybusinessreport.com/wp-content/uploads/2024/02/Buenas-Tardes_Alverez.jpg
END:VEVENT
BEGIN:VEVENT
DTSTART;TZID=America/Chicago:20230914T090000
DTEND;TZID=America/Chicago:20230914T170000
DTSTAMP:20260422T042418
CREATED:20230906T181832Z
LAST-MODIFIED:20230906T181832Z
UID:10000996-1694682000-1694710800@valleybusinessreport.com
SUMMARY:Latina Leadership Conference "See Her Be Her - She Se Puede!" 2023
DESCRIPTION:Join the RGV Hispanic Chamber of Commerce on Sept. 14 as it brings together experts\, entrepreneurs and innovators from various backgrounds at the Latina Leadership Conference “She Se Puede” at the Mission Event Center. \nParticipants will get a full day of inspiring insights and interactive workshops from keynote speakers and influential Latina leaders from all around the RGV. \nThis conference will include multiple breakout sessions covering high-level topics surrounding women leadership while also highlighting networking\, small business mentorship and expanding the professional knowledge of tomorrow’s Latina women leaders. Furthermore\, the conference will feature 20 local vendors where attendees will be able to tour goods and services while supporting small businesses. \nTickets are $50 per person\, $600 for a reserved table of eight. \n\n\n	Related
URL:https://valleybusinessreport.com/event/latina-leadership-conference-see-her-be-her-she-se-puede-2023/
LOCATION:Mission Event Center\, 200 South Shary Road\, Mission\, TX\, 78572\, United States
CATEGORIES:Conferences and Summits
ATTACH;FMTTYPE=image/png:https://valleybusinessreport.com/wp-content/uploads/2023/09/Latina-Leadership-.png
END:VEVENT
BEGIN:VEVENT
DTSTART;TZID=America/Chicago:20230816T113000
DTEND;TZID=America/Chicago:20230816T130000
DTSTAMP:20260422T042418
CREATED:20230809T045451Z
LAST-MODIFIED:20230809T045451Z
UID:10000977-1692185400-1692190800@valleybusinessreport.com
SUMMARY:Buenas Tardes Luncheon - State of Education
DESCRIPTION:The Mission Chamber of Commerce will hold a State of Education Luncheon during its Buenas Tardes on Aug. 16. Hear from UTRGV President Guy Bailey\, South Texas College President Ricardo Solis\, and Texas Higher Education Center at McAllen President and CEO Manny Vela. \nIndividual tickets are $50 with sponsorships available. \nRegister online. \n\n\n	Related
URL:https://valleybusinessreport.com/event/buenas-tardes-luncheon-state-of-education/
LOCATION:Mission Event Center\, 200 South Shary Road\, Mission\, TX\, 78572\, United States
CATEGORIES:Speakers
ATTACH;FMTTYPE=image/png:https://valleybusinessreport.com/wp-content/uploads/2023/08/BTLStateofEducation.png
END:VEVENT
BEGIN:VEVENT
DTSTART;TZID=America/Chicago:20230308T183000
DTEND;TZID=America/Chicago:20230308T203000
DTSTAMP:20260422T042418
CREATED:20230301T193127Z
LAST-MODIFIED:20230301T193127Z
UID:10000888-1678300200-1678307400@valleybusinessreport.com
SUMMARY:Hats Off to Women of Distinction Dinner & Expo 2023
DESCRIPTION:The Hats Off to Women of Distinction Dinner & Expo on March 8 is a gathering of business women to “celebrate” their successes\, shop\, network and learn how SBA can assist in the creation or expansion of their businesses all while modeling the latest “Kentucky Derby Hat” fashions. \nTickets are $50. Reserved tables of eight are $600 each. \nTickets are available online. \nTo purchase a reserved table\, vendor table or for sponsorship information\, contact the RGV Hispanic Chamber of Commerce. \n\n\n	Related
URL:https://valleybusinessreport.com/event/hats-off-to-women-of-distinction-dinner-expo-2023/
LOCATION:Mission Event Center\, 200 South Shary Road\, Mission\, TX\, 78572\, United States
CATEGORIES:Awards and Recognitions
ATTACH;FMTTYPE=image/jpeg:https://valleybusinessreport.com/wp-content/uploads/2023/03/Hats-Off-to-Women.jpg
ORGANIZER;CN="Cissy Saenz":MAILTO:cissy@rgvhcc.com
END:VEVENT
BEGIN:VEVENT
DTSTART;TZID=America/Chicago:20220810T113000
DTEND;TZID=America/Chicago:20220810T130000
DTSTAMP:20260422T042418
CREATED:20220802T151644Z
LAST-MODIFIED:20220802T151644Z
UID:10000842-1660131000-1660136400@valleybusinessreport.com
SUMMARY:Buenas Tardes Luncheon - Community Leader Spotlight 2022
DESCRIPTION:The Greater Mission Chamber of Commerce presents its Buenas Tardes Luncheon Aug. 10 with a community leader spotlight. The event includes Anabell Cardona\, president and CEO of Valley Grande Institute; Cliffe Killam\, president and CEO of Killam Development; and Francisco Ochoa Jr.\, CEO of Taco Palenque. \nIn-person tickets are $50. Table sponsorships for a table of eight are available for $425. \nFor more information\, contact vicepresident@missionchamber.com or call the chamber offices.\n\n\n	Related
URL:https://valleybusinessreport.com/event/buenas-tardes-luncheon-community-leader-spotlight-2022/
LOCATION:Mission Event Center\, 200 South Shary Road\, Mission\, TX\, 78572\, United States
CATEGORIES:Speakers
ATTACH;FMTTYPE=image/jpeg:https://valleybusinessreport.com/wp-content/uploads/2022/07/BTLAugust22.jpg
END:VEVENT
BEGIN:VEVENT
DTSTART;TZID=America/Chicago:20220615T180000
DTEND;TZID=America/Chicago:20220615T210000
DTSTAMP:20260422T042418
CREATED:20220608T172727Z
LAST-MODIFIED:20220608T172932Z
UID:10000790-1655316000-1655326800@valleybusinessreport.com
SUMMARY:Women of Distinction Awards Dinner
DESCRIPTION:The RGV Hispanic Chamber of Commerce hosts the 2022 Women of Distinction Awards Dinner at the Mission Event Center on June 15. \nThis event is a celebration of women who have excelled throughout their careers while also being involved in community building. Categories are Health\, Education\, Government\, Entrepreneur\, Professional\, Rising Star\, Arts and Entertainment\, Humanitarian\, and Military. \nTickets are $50. Reserved tables of eight are $600. \nTickets are available online or by calling the RGV Hispanic Chamber of Commerce.\n\n\n	Related
URL:https://valleybusinessreport.com/event/women-of-distinction-awards-dinner/
LOCATION:Mission Event Center\, 200 South Shary Road\, Mission\, TX\, 78572\, United States
CATEGORIES:Awards and Recognitions
ATTACH;FMTTYPE=image/jpeg:https://valleybusinessreport.com/wp-content/uploads/2022/06/women-of-distinction-2022.jpg
END:VEVENT
BEGIN:VEVENT
DTSTART;TZID=America/Chicago:20210916T110000
DTEND;TZID=America/Chicago:20210916T133000
DTSTAMP:20260422T042418
CREATED:20210905T185615Z
LAST-MODIFIED:20210905T185615Z
UID:10000614-1631790000-1631799000@valleybusinessreport.com
SUMMARY:Buenas Tardes Luncheon-Community Leader Spotlight
DESCRIPTION:The Greater Mission Chamber of Commerce presents its Buenas Tardes Luncheon Sept. 16\, spotlighting community leaders. Honorees include Sarah Hammond\, president of Atlas Electrical\, Air Conditioning\, Refrigeration and Plumbing Services; State Sen. Juan “Chuy” Hinojosa; and Nick Rhodes\, president of Rhodes Enterprises. \nTickets are $50. Table sponsorships are available for $425. \nRegister online or contact the chamber.\n\n\n	Related
URL:https://valleybusinessreport.com/event/buenas-tardes-luncheon-community-leader-spotlight/
LOCATION:Mission Event Center\, 200 South Shary Road\, Mission\, TX\, 78572\, United States
CATEGORIES:Awards and Recognitions
ATTACH;FMTTYPE=image/png:https://valleybusinessreport.com/wp-content/uploads/2021/09/BTLCommunityLeaderSpotlight2021.png
END:VEVENT
END:VCALENDAR