BEGIN:VCALENDAR
VERSION:2.0
PRODID:-//VBR - ECPv6.15.17.1//NONSGML v1.0//EN
CALSCALE:GREGORIAN
METHOD:PUBLISH
X-ORIGINAL-URL:https://valleybusinessreport.com
X-WR-CALDESC:Events for VBR
REFRESH-INTERVAL;VALUE=DURATION:PT1H
X-Robots-Tag:noindex
X-PUBLISHED-TTL:PT1H
BEGIN:VTIMEZONE
TZID:America/Chicago
BEGIN:DAYLIGHT
TZOFFSETFROM:-0600
TZOFFSETTO:-0500
TZNAME:CDT
DTSTART:20200308T080000
END:DAYLIGHT
BEGIN:STANDARD
TZOFFSETFROM:-0500
TZOFFSETTO:-0600
TZNAME:CST
DTSTART:20201101T070000
END:STANDARD
BEGIN:DAYLIGHT
TZOFFSETFROM:-0600
TZOFFSETTO:-0500
TZNAME:CDT
DTSTART:20210314T080000
END:DAYLIGHT
BEGIN:STANDARD
TZOFFSETFROM:-0500
TZOFFSETTO:-0600
TZNAME:CST
DTSTART:20211107T070000
END:STANDARD
BEGIN:DAYLIGHT
TZOFFSETFROM:-0600
TZOFFSETTO:-0500
TZNAME:CDT
DTSTART:20220313T080000
END:DAYLIGHT
BEGIN:STANDARD
TZOFFSETFROM:-0500
TZOFFSETTO:-0600
TZNAME:CST
DTSTART:20221106T070000
END:STANDARD
BEGIN:DAYLIGHT
TZOFFSETFROM:-0600
TZOFFSETTO:-0500
TZNAME:CDT
DTSTART:20230312T080000
END:DAYLIGHT
BEGIN:STANDARD
TZOFFSETFROM:-0500
TZOFFSETTO:-0600
TZNAME:CST
DTSTART:20231105T070000
END:STANDARD
BEGIN:DAYLIGHT
TZOFFSETFROM:-0600
TZOFFSETTO:-0500
TZNAME:CDT
DTSTART:20240310T080000
END:DAYLIGHT
BEGIN:STANDARD
TZOFFSETFROM:-0500
TZOFFSETTO:-0600
TZNAME:CST
DTSTART:20241103T070000
END:STANDARD
BEGIN:DAYLIGHT
TZOFFSETFROM:-0600
TZOFFSETTO:-0500
TZNAME:CDT
DTSTART:20250309T080000
END:DAYLIGHT
BEGIN:STANDARD
TZOFFSETFROM:-0500
TZOFFSETTO:-0600
TZNAME:CST
DTSTART:20251102T070000
END:STANDARD
END:VTIMEZONE
BEGIN:VEVENT
DTSTART;TZID=America/Chicago:20240215T110000
DTEND;TZID=America/Chicago:20240215T133000
DTSTAMP:20260422T055453
CREATED:20240205T145651Z
LAST-MODIFIED:20240205T145717Z
UID:10001083-1707994800-1708003800@valleybusinessreport.com
SUMMARY:Buenas Tardes Luncheon - Community Leader Spotlight
DESCRIPTION:Join the Greater Mission Chamber of Commerce on Feb. 15 for another ‘Buenas Tardes Luncheon’ to hear insights from Industry Training and Economic Development experts at the Mission EDC\, South Texas College and local businesses. \nLeading the conversation is Senior VP & Director of Business Development at Lone Star National Bank and former Texas Workforce Commissioner Julian Alvarez. \nFor more information\, contact the Greater Mission Chamber of Commerce via phone or email candace@missionchamber.com. \n\n\n	Related
URL:https://valleybusinessreport.com/event/buenas-tardes-luncheon-community-leader-spotlight-2/
LOCATION:Mission Event Center\, 200 South Shary Road\, Mission\, TX\, 78572\, United States
CATEGORIES:Speakers
ATTACH;FMTTYPE=image/jpeg:https://valleybusinessreport.com/wp-content/uploads/2024/02/Buenas-Tardes_Alverez.jpg
END:VEVENT
BEGIN:VEVENT
DTSTART;TZID=America/Chicago:20230914T090000
DTEND;TZID=America/Chicago:20230914T170000
DTSTAMP:20260422T055453
CREATED:20230906T181832Z
LAST-MODIFIED:20230906T181832Z
UID:10000996-1694682000-1694710800@valleybusinessreport.com
SUMMARY:Latina Leadership Conference "See Her Be Her - She Se Puede!" 2023
DESCRIPTION:Join the RGV Hispanic Chamber of Commerce on Sept. 14 as it brings together experts\, entrepreneurs and innovators from various backgrounds at the Latina Leadership Conference “She Se Puede” at the Mission Event Center. \nParticipants will get a full day of inspiring insights and interactive workshops from keynote speakers and influential Latina leaders from all around the RGV. \nThis conference will include multiple breakout sessions covering high-level topics surrounding women leadership while also highlighting networking\, small business mentorship and expanding the professional knowledge of tomorrow’s Latina women leaders. Furthermore\, the conference will feature 20 local vendors where attendees will be able to tour goods and services while supporting small businesses. \nTickets are $50 per person\, $600 for a reserved table of eight. \n\n\n	Related
URL:https://valleybusinessreport.com/event/latina-leadership-conference-see-her-be-her-she-se-puede-2023/
LOCATION:Mission Event Center\, 200 South Shary Road\, Mission\, TX\, 78572\, United States
CATEGORIES:Conferences and Summits
ATTACH;FMTTYPE=image/png:https://valleybusinessreport.com/wp-content/uploads/2023/09/Latina-Leadership-.png
END:VEVENT
BEGIN:VEVENT
DTSTART;TZID=America/Chicago:20230816T113000
DTEND;TZID=America/Chicago:20230816T130000
DTSTAMP:20260422T055453
CREATED:20230809T045451Z
LAST-MODIFIED:20230809T045451Z
UID:10000977-1692185400-1692190800@valleybusinessreport.com
SUMMARY:Buenas Tardes Luncheon - State of Education
DESCRIPTION:The Mission Chamber of Commerce will hold a State of Education Luncheon during its Buenas Tardes on Aug. 16. Hear from UTRGV President Guy Bailey\, South Texas College President Ricardo Solis\, and Texas Higher Education Center at McAllen President and CEO Manny Vela. \nIndividual tickets are $50 with sponsorships available. \nRegister online. \n\n\n	Related
URL:https://valleybusinessreport.com/event/buenas-tardes-luncheon-state-of-education/
LOCATION:Mission Event Center\, 200 South Shary Road\, Mission\, TX\, 78572\, United States
CATEGORIES:Speakers
ATTACH;FMTTYPE=image/png:https://valleybusinessreport.com/wp-content/uploads/2023/08/BTLStateofEducation.png
END:VEVENT
BEGIN:VEVENT
DTSTART;TZID=America/Chicago:20230308T183000
DTEND;TZID=America/Chicago:20230308T203000
DTSTAMP:20260422T055453
CREATED:20230301T193127Z
LAST-MODIFIED:20230301T193127Z
UID:10000888-1678300200-1678307400@valleybusinessreport.com
SUMMARY:Hats Off to Women of Distinction Dinner & Expo 2023
DESCRIPTION:The Hats Off to Women of Distinction Dinner & Expo on March 8 is a gathering of business women to “celebrate” their successes\, shop\, network and learn how SBA can assist in the creation or expansion of their businesses all while modeling the latest “Kentucky Derby Hat” fashions. \nTickets are $50. Reserved tables of eight are $600 each. \nTickets are available online. \nTo purchase a reserved table\, vendor table or for sponsorship information\, contact the RGV Hispanic Chamber of Commerce. \n\n\n	Related
URL:https://valleybusinessreport.com/event/hats-off-to-women-of-distinction-dinner-expo-2023/
LOCATION:Mission Event Center\, 200 South Shary Road\, Mission\, TX\, 78572\, United States
CATEGORIES:Awards and Recognitions
ATTACH;FMTTYPE=image/jpeg:https://valleybusinessreport.com/wp-content/uploads/2023/03/Hats-Off-to-Women.jpg
ORGANIZER;CN="Cissy Saenz":MAILTO:cissy@rgvhcc.com
END:VEVENT
BEGIN:VEVENT
DTSTART;TZID=America/Chicago:20220810T113000
DTEND;TZID=America/Chicago:20220810T130000
DTSTAMP:20260422T055453
CREATED:20220802T151644Z
LAST-MODIFIED:20220802T151644Z
UID:10000842-1660131000-1660136400@valleybusinessreport.com
SUMMARY:Buenas Tardes Luncheon - Community Leader Spotlight 2022
DESCRIPTION:The Greater Mission Chamber of Commerce presents its Buenas Tardes Luncheon Aug. 10 with a community leader spotlight. The event includes Anabell Cardona\, president and CEO of Valley Grande Institute; Cliffe Killam\, president and CEO of Killam Development; and Francisco Ochoa Jr.\, CEO of Taco Palenque. \nIn-person tickets are $50. Table sponsorships for a table of eight are available for $425. \nFor more information\, contact vicepresident@missionchamber.com or call the chamber offices.\n\n\n	Related
URL:https://valleybusinessreport.com/event/buenas-tardes-luncheon-community-leader-spotlight-2022/
LOCATION:Mission Event Center\, 200 South Shary Road\, Mission\, TX\, 78572\, United States
CATEGORIES:Speakers
ATTACH;FMTTYPE=image/jpeg:https://valleybusinessreport.com/wp-content/uploads/2022/07/BTLAugust22.jpg
END:VEVENT
BEGIN:VEVENT
DTSTART;TZID=America/Chicago:20220615T180000
DTEND;TZID=America/Chicago:20220615T210000
DTSTAMP:20260422T055453
CREATED:20220608T172727Z
LAST-MODIFIED:20220608T172932Z
UID:10000790-1655316000-1655326800@valleybusinessreport.com
SUMMARY:Women of Distinction Awards Dinner
DESCRIPTION:The RGV Hispanic Chamber of Commerce hosts the 2022 Women of Distinction Awards Dinner at the Mission Event Center on June 15. \nThis event is a celebration of women who have excelled throughout their careers while also being involved in community building. Categories are Health\, Education\, Government\, Entrepreneur\, Professional\, Rising Star\, Arts and Entertainment\, Humanitarian\, and Military. \nTickets are $50. Reserved tables of eight are $600. \nTickets are available online or by calling the RGV Hispanic Chamber of Commerce.\n\n\n	Related
URL:https://valleybusinessreport.com/event/women-of-distinction-awards-dinner/
LOCATION:Mission Event Center\, 200 South Shary Road\, Mission\, TX\, 78572\, United States
CATEGORIES:Awards and Recognitions
ATTACH;FMTTYPE=image/jpeg:https://valleybusinessreport.com/wp-content/uploads/2022/06/women-of-distinction-2022.jpg
END:VEVENT
BEGIN:VEVENT
DTSTART;TZID=America/Chicago:20210916T110000
DTEND;TZID=America/Chicago:20210916T133000
DTSTAMP:20260422T055453
CREATED:20210905T185615Z
LAST-MODIFIED:20210905T185615Z
UID:10000614-1631790000-1631799000@valleybusinessreport.com
SUMMARY:Buenas Tardes Luncheon-Community Leader Spotlight
DESCRIPTION:The Greater Mission Chamber of Commerce presents its Buenas Tardes Luncheon Sept. 16\, spotlighting community leaders. Honorees include Sarah Hammond\, president of Atlas Electrical\, Air Conditioning\, Refrigeration and Plumbing Services; State Sen. Juan “Chuy” Hinojosa; and Nick Rhodes\, president of Rhodes Enterprises. \nTickets are $50. Table sponsorships are available for $425. \nRegister online or contact the chamber.\n\n\n	Related
URL:https://valleybusinessreport.com/event/buenas-tardes-luncheon-community-leader-spotlight/
LOCATION:Mission Event Center\, 200 South Shary Road\, Mission\, TX\, 78572\, United States
CATEGORIES:Awards and Recognitions
ATTACH;FMTTYPE=image/png:https://valleybusinessreport.com/wp-content/uploads/2021/09/BTLCommunityLeaderSpotlight2021.png
END:VEVENT
END:VCALENDAR