BEGIN:VCALENDAR
VERSION:2.0
PRODID:-//VBR - ECPv6.15.17.1//NONSGML v1.0//EN
CALSCALE:GREGORIAN
METHOD:PUBLISH
X-WR-CALNAME:VBR
X-ORIGINAL-URL:https://valleybusinessreport.com
X-WR-CALDESC:Events for VBR
REFRESH-INTERVAL;VALUE=DURATION:PT1H
X-Robots-Tag:noindex
X-PUBLISHED-TTL:PT1H
BEGIN:VTIMEZONE
TZID:America/Chicago
BEGIN:DAYLIGHT
TZOFFSETFROM:-0600
TZOFFSETTO:-0500
TZNAME:CDT
DTSTART:20220313T080000
END:DAYLIGHT
BEGIN:STANDARD
TZOFFSETFROM:-0500
TZOFFSETTO:-0600
TZNAME:CST
DTSTART:20221106T070000
END:STANDARD
BEGIN:DAYLIGHT
TZOFFSETFROM:-0600
TZOFFSETTO:-0500
TZNAME:CDT
DTSTART:20230312T080000
END:DAYLIGHT
BEGIN:STANDARD
TZOFFSETFROM:-0500
TZOFFSETTO:-0600
TZNAME:CST
DTSTART:20231105T070000
END:STANDARD
BEGIN:DAYLIGHT
TZOFFSETFROM:-0600
TZOFFSETTO:-0500
TZNAME:CDT
DTSTART:20240310T080000
END:DAYLIGHT
BEGIN:STANDARD
TZOFFSETFROM:-0500
TZOFFSETTO:-0600
TZNAME:CST
DTSTART:20241103T070000
END:STANDARD
END:VTIMEZONE
BEGIN:VEVENT
DTSTART;TZID=America/Chicago:20230926T150000
DTEND;TZID=America/Chicago:20230926T170000
DTSTAMP:20260421T110301
CREATED:20230920T150542Z
LAST-MODIFIED:20230920T150542Z
UID:10001003-1695740400-1695747600@valleybusinessreport.com
SUMMARY:Speed Networking at Parry's Pizzeria & Taphouse
DESCRIPTION:Elevate your network on Sept. 26 at the Brownsville Chamber of Commerce’s Dynamic Speed Networking Event at Parry’s Pizzeria and Taphouse. \nJoin the chamber for a face-to-face networking experience that’s designed to connect you with accomplished professionals who share your drive and ambition. Whether you’re an enterprising entrepreneur\, a dedicated small business owner or a seasoned professional\, this event promises the perfect platform to amplify your business\, social and professional connections – all tailored to your pace and style. \nThis event empowers you to maximize\, capitalize on and cultivate enduring relationships for your business ventures\, creative endeavors and professional network. Don’t forget to come prepared with your business cards and promotional materials\, as you’ll have the chance to connect with up to 50 individuals poised to make a meaningful impact on your professional journey. \nHow It Unfolds:\nUpon arrival\, you’ll receive a personalized seating sequence\, ensuring that every interaction is fresh and dynamic\, you’ll engage with a diverse array of over 30 business professionals\, each conversation lasting just enough time to make a powerful impression. With up to seven individuals per table\, you’ll have one minute to showcase your company or organization in a compelling commercial presentation. \nTransitioning every 8 to 10 minutes\, you’ll seamlessly move to a new table\, encountering a fresh set of potential collaborators and partners. This rotation continues until the final round\, guaranteeing a dynamic and engaging networking experience for all. \nRegistration is $25 for chamber members\, $30 for non-members. \nRegister online. \n\n\n	Related
URL:https://valleybusinessreport.com/event/speed-networking-at-parrys-pizzeria-taphouse/
LOCATION:Parry’s Pizzeria & Taphouse\, 2320 North Expressway\, Suite 3\, Brownsville\, United States
CATEGORIES:Networking
ATTACH;FMTTYPE=image/png:https://valleybusinessreport.com/wp-content/uploads/2023/09/IG9.26.23SpeedNetworking.png
ORGANIZER;CN="Brownsville Chamber of Commerce":MAILTO:info@brownsvillechamber.com
END:VEVENT
END:VCALENDAR