BEGIN:VCALENDAR
VERSION:2.0
PRODID:-//VBR - ECPv6.15.17.1//NONSGML v1.0//EN
CALSCALE:GREGORIAN
METHOD:PUBLISH
X-WR-CALNAME:VBR
X-ORIGINAL-URL:https://valleybusinessreport.com
X-WR-CALDESC:Events for VBR
REFRESH-INTERVAL;VALUE=DURATION:PT1H
X-Robots-Tag:noindex
X-PUBLISHED-TTL:PT1H
BEGIN:VTIMEZONE
TZID:America/Chicago
BEGIN:DAYLIGHT
TZOFFSETFROM:-0600
TZOFFSETTO:-0500
TZNAME:CDT
DTSTART:20220313T080000
END:DAYLIGHT
BEGIN:STANDARD
TZOFFSETFROM:-0500
TZOFFSETTO:-0600
TZNAME:CST
DTSTART:20221106T070000
END:STANDARD
BEGIN:DAYLIGHT
TZOFFSETFROM:-0600
TZOFFSETTO:-0500
TZNAME:CDT
DTSTART:20230312T080000
END:DAYLIGHT
BEGIN:STANDARD
TZOFFSETFROM:-0500
TZOFFSETTO:-0600
TZNAME:CST
DTSTART:20231105T070000
END:STANDARD
BEGIN:DAYLIGHT
TZOFFSETFROM:-0600
TZOFFSETTO:-0500
TZNAME:CDT
DTSTART:20240310T080000
END:DAYLIGHT
BEGIN:STANDARD
TZOFFSETFROM:-0500
TZOFFSETTO:-0600
TZNAME:CST
DTSTART:20241103T070000
END:STANDARD
END:VTIMEZONE
BEGIN:VEVENT
DTSTART;TZID=America/Chicago:20231201T180000
DTEND;TZID=America/Chicago:20231201T230000
DTSTAMP:20260421T215830
CREATED:20231128T203840Z
LAST-MODIFIED:20231129T021743Z
UID:10001048-1701453600-1701471600@valleybusinessreport.com
SUMMARY:Pharr Winter Wonderland
DESCRIPTION:The City of Pharr hosts its inaugural Winter Wonderland celebration on Dec. 1\, transforming Downtown Park into a festive holiday spectacle for the entire community. \nThis free event takes place from 6-11 p.m. Downtown Park and includes the annual lighting of the Christmas tree with a countdown starting promptly at 7 p.m. \nOther highlights include festive activities hosted by City of Pharr employees\, live music\, food and market vendors\, photo opportunities\, a carnival\, snow sledding\, Elf on the Shelf giveaways\, and of course the arrival of Santa Claus. \nThe City of Pharr extends a warm invitation to the entire community. \n\n\n	Related
URL:https://valleybusinessreport.com/event/pharr-winter-wonderland/
LOCATION:Pharr Downtown Park\, 118 S. Cage Blvd.\, Pharr\, United States
CATEGORIES:Festivals and Celebrations
ATTACH;FMTTYPE=image/png:https://valleybusinessreport.com/wp-content/uploads/2023/11/Pharr-Winter-Wonderland.png
END:VEVENT
END:VCALENDAR