BEGIN:VCALENDAR
VERSION:2.0
PRODID:-//VBR - ECPv6.15.17.1//NONSGML v1.0//EN
CALSCALE:GREGORIAN
METHOD:PUBLISH
X-WR-CALNAME:VBR
X-ORIGINAL-URL:https://valleybusinessreport.com
X-WR-CALDESC:Events for VBR
REFRESH-INTERVAL;VALUE=DURATION:PT1H
X-Robots-Tag:noindex
X-PUBLISHED-TTL:PT1H
BEGIN:VTIMEZONE
TZID:America/Chicago
BEGIN:DAYLIGHT
TZOFFSETFROM:-0600
TZOFFSETTO:-0500
TZNAME:CDT
DTSTART:20200308T080000
END:DAYLIGHT
BEGIN:STANDARD
TZOFFSETFROM:-0500
TZOFFSETTO:-0600
TZNAME:CST
DTSTART:20201101T070000
END:STANDARD
BEGIN:DAYLIGHT
TZOFFSETFROM:-0600
TZOFFSETTO:-0500
TZNAME:CDT
DTSTART:20210314T080000
END:DAYLIGHT
BEGIN:STANDARD
TZOFFSETFROM:-0500
TZOFFSETTO:-0600
TZNAME:CST
DTSTART:20211107T070000
END:STANDARD
BEGIN:DAYLIGHT
TZOFFSETFROM:-0600
TZOFFSETTO:-0500
TZNAME:CDT
DTSTART:20220313T080000
END:DAYLIGHT
BEGIN:STANDARD
TZOFFSETFROM:-0500
TZOFFSETTO:-0600
TZNAME:CST
DTSTART:20221106T070000
END:STANDARD
END:VTIMEZONE
BEGIN:VEVENT
DTSTART;TZID=America/Chicago:20210930T170000
DTEND;TZID=America/Chicago:20210930T190000
DTSTAMP:20260421T233554
CREATED:20210905T161038Z
LAST-MODIFIED:20210905T161038Z
UID:10000627-1633021200-1633028400@valleybusinessreport.com
SUMMARY:Edinburg Chamber Benefit Mixer For Palm Valley Animal Society
DESCRIPTION:Edinburg Chamber Director of Membership Christina Barrera\, PVAS Development Coordinator Arlina Larson\, Edinburg Chamber Executive Director Ronnie Larralde\, PVAS Executive Director Donna Casamento\, and Julian Whitacre.\nThe Edinburg Chamber of Commerce celebrates its September Member of the Month\, Palm Valley Animal Society\, with a mixer Sept. 30 at PVAS Laurie P. Andrews Center. \nThe local animal rescue provides lifesaving care\, comfort and compassion to animals in need by engaging the hearts\, hands and minds of our community. PVAS is celebrating its 15-year membership anniversary. \nPVAS serves five municipalities in Hidalgo County\, as well as the county at-large. It operates two facilities in Edinburg\, taking in approximately 25\,000 animals on behalf of 775\,000 residents each year. PVAS is on a journey to maintain “no-kill” status\, broadly defined as saving 90 percent or more of the animals that enter into their care. \nAttendees are encouraged to support the organization by making a donation to pvastx.org/donate. \nTo RSVP or more information on the upcoming event\, visit edinburg.com.\n\n\n	Related
URL:https://valleybusinessreport.com/event/edinburg-chamber-benefit-mixer-for-palm-valley-animal-society/
LOCATION:PVAS Laurie P. Andrews Center\, 2451 N. Expressway 281\, Edinburg\, TX\, 78541\, United States
CATEGORIES:Networking
ATTACH;FMTTYPE=image/jpeg:https://valleybusinessreport.com/wp-content/uploads/2021/09/Edinburg-Chamber-PVAS.jpg
ORGANIZER;CN="Edinburg Chamber of Commerce":MAILTO:chamber@edinburg.com
END:VEVENT
END:VCALENDAR