BEGIN:VCALENDAR
VERSION:2.0
PRODID:-//VBR - ECPv6.15.17.1//NONSGML v1.0//EN
CALSCALE:GREGORIAN
METHOD:PUBLISH
X-WR-CALNAME:VBR
X-ORIGINAL-URL:https://valleybusinessreport.com
X-WR-CALDESC:Events for VBR
REFRESH-INTERVAL;VALUE=DURATION:PT1H
X-Robots-Tag:noindex
X-PUBLISHED-TTL:PT1H
BEGIN:VTIMEZONE
TZID:America/Chicago
BEGIN:DAYLIGHT
TZOFFSETFROM:-0600
TZOFFSETTO:-0500
TZNAME:CDT
DTSTART:20210314T080000
END:DAYLIGHT
BEGIN:STANDARD
TZOFFSETFROM:-0500
TZOFFSETTO:-0600
TZNAME:CST
DTSTART:20211107T070000
END:STANDARD
BEGIN:DAYLIGHT
TZOFFSETFROM:-0600
TZOFFSETTO:-0500
TZNAME:CDT
DTSTART:20220313T080000
END:DAYLIGHT
BEGIN:STANDARD
TZOFFSETFROM:-0500
TZOFFSETTO:-0600
TZNAME:CST
DTSTART:20221106T070000
END:STANDARD
BEGIN:DAYLIGHT
TZOFFSETFROM:-0600
TZOFFSETTO:-0500
TZNAME:CDT
DTSTART:20230312T080000
END:DAYLIGHT
BEGIN:STANDARD
TZOFFSETFROM:-0500
TZOFFSETTO:-0600
TZNAME:CST
DTSTART:20231105T070000
END:STANDARD
BEGIN:DAYLIGHT
TZOFFSETFROM:-0600
TZOFFSETTO:-0500
TZNAME:CDT
DTSTART:20240310T080000
END:DAYLIGHT
BEGIN:STANDARD
TZOFFSETFROM:-0500
TZOFFSETTO:-0600
TZNAME:CST
DTSTART:20241103T070000
END:STANDARD
BEGIN:DAYLIGHT
TZOFFSETFROM:-0600
TZOFFSETTO:-0500
TZNAME:CDT
DTSTART:20250309T080000
END:DAYLIGHT
BEGIN:STANDARD
TZOFFSETFROM:-0500
TZOFFSETTO:-0600
TZNAME:CST
DTSTART:20251102T070000
END:STANDARD
BEGIN:DAYLIGHT
TZOFFSETFROM:-0600
TZOFFSETTO:-0500
TZNAME:CDT
DTSTART:20260308T080000
END:DAYLIGHT
BEGIN:STANDARD
TZOFFSETFROM:-0500
TZOFFSETTO:-0600
TZNAME:CST
DTSTART:20261101T070000
END:STANDARD
END:VTIMEZONE
BEGIN:VEVENT
DTSTART;TZID=America/Chicago:20250206T073000
DTEND;TZID=America/Chicago:20250206T090000
DTSTAMP:20260421T203801
CREATED:20250125T030148Z
LAST-MODIFIED:20250125T030630Z
UID:10001235-1738827000-1738832400@valleybusinessreport.com
SUMMARY:Good Morning McAllen
DESCRIPTION:Join the McAllen Chamber of Commerce on Feb. 6 for breakfast at the Good Morning McAllen Breakfast event. \nThe morning provides an opportunity to connect with both existing and new members to kick off 2025. This gathering is sponsored by Sea Turtle Inc. \nRegister online. \n\n\n	Related
URL:https://valleybusinessreport.com/event/good-morning-mcallen-4/
LOCATION:Radisson Hotel McAllen Airport\, 2721 South 10th Street\, McAllen\, TX\, 78503\, United States
CATEGORIES:Networking
ATTACH;FMTTYPE=image/jpeg:https://valleybusinessreport.com/wp-content/uploads/2025/01/GoodMorningMcAllen.jpg
ORGANIZER;CN="McAllen Chamber of Commerce":MAILTO:bcardenas@mcallenchamber.com
END:VEVENT
BEGIN:VEVENT
DTSTART;TZID=America/Chicago:20250106T173000
DTEND;TZID=America/Chicago:20250106T193000
DTSTAMP:20260421T203801
CREATED:20241229T173320Z
LAST-MODIFIED:20241229T173320Z
UID:10001229-1736184600-1736191800@valleybusinessreport.com
SUMMARY:Manic Monday Mixer
DESCRIPTION:Manic Monday Mixer\nJoin the RGV Hispanic Chamber of Commerce on Jan. 6 for its signature event\, the Manic Monday Mixer. The networking experience is tailored for business owners and professionals looking to expand their horizons in the vibrant community of the Rio Grande Valley. \nAt the Manic Monday Mixer\, business owners come together to mingle\, foster new connections and cultivate meaningful business leads. \nWhy Attend?\n\nNetworking Magic: Immerse yourself in the dynamic atmosphere where connections are made and ideas flourish.\nBusiness Leads: The Manic Monday Mixers have proven to be a catalyst for members in creating numerous business contacts spanning the Rio Grande Valley.\nDoor Prize Bonanza: Elevate your visibility. Those generously donating a door prize receive an extra opportunity to shine\, sharing insights about their business with the audience.\nBring Your Business Cards: Be prepared to exchange information and leave a lasting impression.\n\nFree registration for members\, $10 for non-members. \nRegister online. \n\n\n	Related
URL:https://valleybusinessreport.com/event/manic-monday-mixer-11/
LOCATION:Radisson Hotel McAllen Airport\, 2721 South 10th Street\, McAllen\, TX\, 78503\, United States
CATEGORIES:Networking
ATTACH;FMTTYPE=image/jpeg:https://valleybusinessreport.com/wp-content/uploads/2024/12/Manic-Monday-Mixer.jpg
END:VEVENT
BEGIN:VEVENT
DTSTART;TZID=America/Chicago:20241023T113000
DTEND;TZID=America/Chicago:20241023T133000
DTSTAMP:20260421T203801
CREATED:20240916T164115Z
LAST-MODIFIED:20240916T164115Z
UID:10001185-1729683000-1729690200@valleybusinessreport.com
SUMMARY:Luna Awards Luncheon
DESCRIPTION:The Luna Awards on Oct. 23 celebrates the achievements of women\, women-owned businesses and advocates who promote and develop women at all levels in Architecture\, Engineering and Construction. \nAward categories for the Rio Grande Valley A/E/C Firm of the Year\, Service Firm of the Year\, Woman of the Year A/E/C\, and Outstanding Administrative Professional of the Year. Nominations are accepted online. \nTickets are $50; Luna Reserved Tables are $750. Sponsorships are available. \nMore information and registration is available online. \n\n\n	Related
URL:https://valleybusinessreport.com/event/luna-awards-luncheon/
LOCATION:Radisson Hotel McAllen Airport\, 2721 South 10th Street\, McAllen\, TX\, 78503\, United States
CATEGORIES:Awards and Recognitions
ATTACH;FMTTYPE=image/png:https://valleybusinessreport.com/wp-content/uploads/2024/09/Luna-Awards.png
END:VEVENT
BEGIN:VEVENT
DTSTART;TZID=America/Chicago:20240711T073000
DTEND;TZID=America/Chicago:20240711T090000
DTSTAMP:20260421T203801
CREATED:20240627T162446Z
LAST-MODIFIED:20240627T162446Z
UID:10001134-1720683000-1720688400@valleybusinessreport.com
SUMMARY:Good Morning McAllen
DESCRIPTION:Join the McAllen Chamber of Commerce on July 11 for Good Morning McAllen and connect with new members\, or reconnect with existing ones\, during a special gathering sponsored by Food Bank of the Rio Grande Valley Inc. \nLeading this breakfast will be hosts Jim Darling and Joe Brown. Every chamber member is automatically entered to win $600 cash. Along with the cash drawing\, there will be numerous door prizes. \nRegistration is $25 per person or $350 per table of eight. \n\n\n	Related
URL:https://valleybusinessreport.com/event/good-morning-mcallen-3/
LOCATION:Radisson Hotel McAllen Airport\, 2721 South 10th Street\, McAllen\, TX\, 78503\, United States
CATEGORIES:Networking
ATTACH;FMTTYPE=image/webp:https://valleybusinessreport.com/wp-content/uploads/2024/06/GoodMorning_June2024.webp
ORGANIZER;CN="McAllen Chamber of Commerce":MAILTO:bcardenas@mcallenchamber.com
END:VEVENT
BEGIN:VEVENT
DTSTART;TZID=America/Chicago:20240506T173000
DTEND;TZID=America/Chicago:20240506T193000
DTSTAMP:20260421T203801
CREATED:20240425T223658Z
LAST-MODIFIED:20240425T223658Z
UID:10001127-1715016600-1715023800@valleybusinessreport.com
SUMMARY:Manic Monday Mixer
DESCRIPTION:Join the RGV Hispanic Chamber of Commerce on May 6 at The Radisson McAllen Airport for the chamber’s signature event\, the Manic Monday Mixer. The networking experience is tailored for business owners and professionals looking to expand their horizons in the vibrant community of the Rio Grande Valley. \nAt the Manic Monday Mixer\, the air is buzzing with opportunities as business owners come together to mingle\, foster new connections and cultivate meaningful business leads. Hosted by the RGV Hispanic Chamber\, this monthly event has become a cornerstone for our members to forge valuable relationships across the Rio Grande Valley. \nRegister online. \n\n\n	Related
URL:https://valleybusinessreport.com/event/manic-monday-mixer-9/
LOCATION:Radisson Hotel McAllen Airport\, 2721 South 10th Street\, McAllen\, TX\, 78503\, United States
CATEGORIES:Networking
ATTACH;FMTTYPE=image/jpeg:https://valleybusinessreport.com/wp-content/uploads/2024/04/Manic-Monday-Mixer_may2024.jpg
END:VEVENT
BEGIN:VEVENT
DTSTART;TZID=America/Chicago:20240404T073000
DTEND;TZID=America/Chicago:20240404T090000
DTSTAMP:20260421T203801
CREATED:20240326T164652Z
LAST-MODIFIED:20240326T165818Z
UID:10001109-1712215800-1712221200@valleybusinessreport.com
SUMMARY:Good Morning McAllen
DESCRIPTION:Join the McAllen Chamber of Commerce for “Good Morning McAllen” on April 4 and connect with new members\, or reconnect with existing ones for this special gathering sponsored by Driscoll’s Children’s Hospital. \nLeading this breakfast will be hosts Jim Darling and Joe Brown. Every chamber member is automatically entered to win $500 cash\, Along with the cash drawing\, there will be numerous door prizes. \nRegistration is $25 per person / $300 per table of eight. \n\n\n	Related
URL:https://valleybusinessreport.com/event/good-morning-mcallen-2/
LOCATION:Radisson Hotel McAllen Airport\, 2721 South 10th Street\, McAllen\, TX\, 78503\, United States
CATEGORIES:Networking
ATTACH;FMTTYPE=image/webp:https://valleybusinessreport.com/wp-content/uploads/2024/03/Good-Morning-April-2024.webp
ORGANIZER;CN="McAllen Chamber of Commerce":MAILTO:bcardenas@mcallenchamber.com
END:VEVENT
BEGIN:VEVENT
DTSTART;TZID=America/Chicago:20240118T073000
DTEND;TZID=America/Chicago:20240118T090000
DTSTAMP:20260421T203801
CREATED:20240109T163347Z
LAST-MODIFIED:20240109T163347Z
UID:10001068-1705563000-1705568400@valleybusinessreport.com
SUMMARY:Good Morning McAllen
DESCRIPTION:Join the McAllen Chamber of Commerce at Good Morning McAllen on Jan. 18 and connect with new members\, or reconnect with existing ones. Leading this breakfast will be hosts Jim Darling and Joe Brown. This month’s event is sponsored by Make-A-Wish. \nEvery chamber member is automatically entered to win $200 cash. Along with the cash drawing\, there will be numerous door prizes. Registration is $25 per person\, $300 per table of eight. \n\n\n	Related
URL:https://valleybusinessreport.com/event/good-morning-mcallen/
LOCATION:Radisson Hotel McAllen Airport\, 2721 South 10th Street\, McAllen\, TX\, 78503\, United States
CATEGORIES:Networking
ATTACH;FMTTYPE=image/webp:https://valleybusinessreport.com/wp-content/uploads/2024/01/Good-Morning-Breakfast_Jan-2024.webp
ORGANIZER;CN="McAllen Chamber of Commerce":MAILTO:bcardenas@mcallenchamber.com
END:VEVENT
BEGIN:VEVENT
DTSTART;TZID=America/Chicago:20230703T173000
DTEND;TZID=America/Chicago:20230703T193000
DTSTAMP:20260421T203801
CREATED:20230628T154147Z
LAST-MODIFIED:20230628T154147Z
UID:10000795-1688405400-1688412600@valleybusinessreport.com
SUMMARY:Manic Monday Mixer
DESCRIPTION:The RGV Hispanic Chamber of Commerce’s Manic Monday Mixer on July 3 provides business people the opportunity to gather over appetizers and beverages while mingling and creating new business leads. \nThe Manic Monday Mixers have helped the RGVHCC members create many business contacts from throughout the Rio Grande Valley. \nDoor prizes are always a big draw. Anyone donating a door prize gets an extra opportunity to talk about their business. Plenty of business cards are recommended. \nRegister online. \n\n\n	Related
URL:https://valleybusinessreport.com/event/manic-monday-mixer-4/
LOCATION:Radisson Hotel McAllen Airport\, 2721 South 10th Street\, McAllen\, TX\, 78503\, United States
CATEGORIES:Networking
ATTACH;FMTTYPE=image/jpeg:https://valleybusinessreport.com/wp-content/uploads/2023/06/Manic-Monday-Mixer-July-2023.jpg
END:VEVENT
BEGIN:VEVENT
DTSTART;TZID=America/Chicago:20230424T113000
DTEND;TZID=America/Chicago:20230424T130000
DTSTAMP:20260421T203801
CREATED:20230419T052520Z
LAST-MODIFIED:20230419T052520Z
UID:10000918-1682335800-1682341200@valleybusinessreport.com
SUMMARY:The Future of Small Business Luncheon
DESCRIPTION:Join the Rio Grande Valley Hispanic Chamber of Commerce for The Future of Small Business Luncheon on April 24. Special guests are Texas Association of Business President/CEO Glenn Hamer and Chairman Massey Villarreal. \nThe TAB Is the Texas State Chamber\, representing companies of every size and Industry. TAB’s purpose Is to champion the best business climate In the world\, unleashing the power of free enterprise to enhance lives for generations. \nTickets are $50 per person\, $600 for a reserved table of eight. \nRegister online.\n\n\n	Related
URL:https://valleybusinessreport.com/event/the-future-of-small-business-luncheon/
LOCATION:Radisson Hotel McAllen Airport\, 2721 South 10th Street\, McAllen\, TX\, 78503\, United States
CATEGORIES:Speakers
ATTACH;FMTTYPE=image/jpeg:https://valleybusinessreport.com/wp-content/uploads/2023/04/The-Future-of-Small-Business-Luncheon.jpg
END:VEVENT
BEGIN:VEVENT
DTSTART;TZID=America/Chicago:20230321T113000
DTEND;TZID=America/Chicago:20230321T130000
DTSTAMP:20260421T203801
CREATED:20230314T174522Z
LAST-MODIFIED:20230314T174522Z
UID:10000922-1679398200-1679403600@valleybusinessreport.com
SUMMARY:Lies and Creativity: ﻿﻿﻿The Link Between Creative Thinking and Fibbing
DESCRIPTION:The American Advertising Federation – RGV hosts a luncheon on March 21 with Brenda Hernandez presenting “Lies and Creativity: The Link Between Creative Thinking and Fibbing.”  \nHernandez is currently a freelance copywriter after doing harrowing work at Peloton\, Anomaly\, Condé Nast\, Remezcla\, Yard\, Young Heroes and LatinWorks. She’s done work for big brands such as Peloton\, Google\, Ally Bank\, Victoria’s Secret\, Target\, Johnnie Walker\, Budweiser\, Crown Royal\, Buchanan’s\, Converse\, Cine Las Américas\, Snickers and M&Ms. \nHernandez is a Rio Grande Valley native and a graduate of UTRGV legacy institution\, UTPA. \nRegister online in advance. Registration is required. \n\n\n	Related
URL:https://valleybusinessreport.com/event/lies-and-creativity-the-link-between-creative-thinking-and-fibbing/
LOCATION:Radisson Hotel McAllen Airport\, 2721 South 10th Street\, McAllen\, TX\, 78503\, United States
CATEGORIES:Speakers
ATTACH;FMTTYPE=image/jpeg:https://valleybusinessreport.com/wp-content/uploads/2023/03/BrendaHernandezMarch21_23.jpg
ORGANIZER;CN="American Advertising Federation - Rio Grande Valley":MAILTO:aafrgv@rgv.rr.com
END:VEVENT
BEGIN:VEVENT
DTSTART;TZID=America/Chicago:20220825T113000
DTEND;TZID=America/Chicago:20220825T130000
DTSTAMP:20260421T203801
CREATED:20220720T170409Z
LAST-MODIFIED:20220912T214011Z
UID:10000830-1661427000-1661432400@valleybusinessreport.com
SUMMARY:Legislative Update Luncheon 2022
DESCRIPTION:Join the RGV Hispanic Chamber of Commerce on Aug. 25 to discuss our legislative updates at the Legislative Update Luncheon 2022. \nState legislators present a summary of how recent bills will affect business\, education\, health\, transportation\, etc. \nThere will be an open Q&A session for those in attendance. \nTickets are $50 for individuals\, $600 for a reserved table for eight people. Contact the RGVHCC office for reserved tables. \nBuy tickets online. \n\n\n\n\n\n\n	Related
URL:https://valleybusinessreport.com/event/legislative-update-luncheon-2022/
LOCATION:Radisson Hotel McAllen Airport\, 2721 South 10th Street\, McAllen\, TX\, 78503\, United States
CATEGORIES:Speakers
ATTACH;FMTTYPE=image/jpeg:https://valleybusinessreport.com/wp-content/uploads/2022/07/LegislativeUpdate2022.jpg
END:VEVENT
END:VCALENDAR