BEGIN:VCALENDAR
VERSION:2.0
PRODID:-//VBR - ECPv6.15.17.1//NONSGML v1.0//EN
CALSCALE:GREGORIAN
METHOD:PUBLISH
X-WR-CALNAME:VBR
X-ORIGINAL-URL:https://valleybusinessreport.com
X-WR-CALDESC:Events for VBR
REFRESH-INTERVAL;VALUE=DURATION:PT1H
X-Robots-Tag:noindex
X-PUBLISHED-TTL:PT1H
BEGIN:VTIMEZONE
TZID:America/Chicago
BEGIN:DAYLIGHT
TZOFFSETFROM:-0600
TZOFFSETTO:-0500
TZNAME:CDT
DTSTART:20220313T080000
END:DAYLIGHT
BEGIN:STANDARD
TZOFFSETFROM:-0500
TZOFFSETTO:-0600
TZNAME:CST
DTSTART:20221106T070000
END:STANDARD
BEGIN:DAYLIGHT
TZOFFSETFROM:-0600
TZOFFSETTO:-0500
TZNAME:CDT
DTSTART:20230312T080000
END:DAYLIGHT
BEGIN:STANDARD
TZOFFSETFROM:-0500
TZOFFSETTO:-0600
TZNAME:CST
DTSTART:20231105T070000
END:STANDARD
BEGIN:DAYLIGHT
TZOFFSETFROM:-0600
TZOFFSETTO:-0500
TZNAME:CDT
DTSTART:20240310T080000
END:DAYLIGHT
BEGIN:STANDARD
TZOFFSETFROM:-0500
TZOFFSETTO:-0600
TZNAME:CST
DTSTART:20241103T070000
END:STANDARD
BEGIN:DAYLIGHT
TZOFFSETFROM:-0600
TZOFFSETTO:-0500
TZNAME:CDT
DTSTART:20250309T080000
END:DAYLIGHT
BEGIN:STANDARD
TZOFFSETFROM:-0500
TZOFFSETTO:-0600
TZNAME:CST
DTSTART:20251102T070000
END:STANDARD
BEGIN:DAYLIGHT
TZOFFSETFROM:-0600
TZOFFSETTO:-0500
TZNAME:CDT
DTSTART:20260308T080000
END:DAYLIGHT
BEGIN:STANDARD
TZOFFSETFROM:-0500
TZOFFSETTO:-0600
TZNAME:CST
DTSTART:20261101T070000
END:STANDARD
END:VTIMEZONE
BEGIN:VEVENT
DTSTART;TZID=America/Chicago:20251101T190000
DTEND;TZID=America/Chicago:20251101T233000
DTSTAMP:20260421T062158
CREATED:20251029T214911Z
LAST-MODIFIED:20251029T214911Z
UID:10001330-1762023600-1762039800@valleybusinessreport.com
SUMMARY:Edinburg Chamber Installation & Awards Banquet
DESCRIPTION:Join the Edinburg Chamber on Nov. 1 for a special evening as they honor Ruben James De Jesus\, immediate past president\, and welcome Nick Cantu as the new president of the board. This memorable event will celebrate a year of achievements and recognize outstanding community leaders. Enjoy an evening of elegance and excitement with this year’s theme: Roaring 20’s. \nContact the Edinburg Chamber for tickets or more information. \n\n\n	Related
URL:https://valleybusinessreport.com/event/edinburg-chamber-installation-awards-banquet-4/
LOCATION:Region One Education Service Center\, 2022 West Schunior Street\, Edinburg\, 78541\, United States
CATEGORIES:Awards and Recognitions
ATTACH;FMTTYPE=image/jpeg:https://valleybusinessreport.com/wp-content/uploads/2025/10/Edinburg-Banquet-2025.jpg
ORGANIZER;CN="Edinburg Chamber of Commerce":MAILTO:chamber@edinburg.com
END:VEVENT
BEGIN:VEVENT
DTSTART;TZID=America/Chicago:20251024T110000
DTEND;TZID=America/Chicago:20251024T130000
DTSTAMP:20260421T062158
CREATED:20251013T154127Z
LAST-MODIFIED:20251013T154127Z
UID:10001326-1761303600-1761310800@valleybusinessreport.com
SUMMARY:Real Talk: Marketing In Healthcare
DESCRIPTION:The Edinburg Chamber of Commerce partners with The Code(SM) Group to present Real Talk: Marketing in Healthcare on Oct. 24. The seminar\, focusing on healthcare and marketing professionals\, includes a panel discussion on today’s healthcare marketing landscape. Learn what’s working\, what’s changing\, and how organizations are driving patient acquisition in real time. \nFeatured Panelists:\nTom Castañeda – South Texas Health System – Edinburg\nPriscilla Gabrielle Duran – Mission Regional Medical Center\nPablo Treviño – XO Physical Therapy\nAlicia Cruz – MedCare EMS \nDon’t miss this opportunity to connect\, collaborate and gain insights from some of the region’s leading healthcare marketing professionals. Expand your network while discovering strategies that can make a real impact. \nRegister online. \n\n\n	Related
URL:https://valleybusinessreport.com/event/real-talk-marketing-in-healthcare/
LOCATION:Region One Education Service Center\, 2022 West Schunior Street\, Edinburg\, 78541\, United States
CATEGORIES:Seminars and Workshops
ATTACH;FMTTYPE=image/jpeg:https://valleybusinessreport.com/wp-content/uploads/2025/10/tmp_7247-scaled.jpg
ORGANIZER;CN="Edinburg Chamber of Commerce":MAILTO:chamber@edinburg.com
END:VEVENT
BEGIN:VEVENT
DTSTART;TZID=America/Chicago:20240502T090000
DTEND;TZID=America/Chicago:20240502T090000
DTSTAMP:20260421T062158
CREATED:20240423T195303Z
LAST-MODIFIED:20240423T195333Z
UID:10001125-1714640400-1714640400@valleybusinessreport.com
SUMMARY:Edinburg Mayor's Prayer Breakfast
DESCRIPTION:Join the Edinburg Chamber of Commerce for the Mayor’s Prayer Breakfast on National Prayer Day on May 2. Attendees will come together with open hearts for a morning of reflection\, unity and community spirit. \nThis event provides an opportunity for individuals from all walks of life to join in prayer and fellowship\, fostering a sense of togetherness and understanding within the community. \nThis event is free of charge\, but RSVP is required. Seating is limited and will be allocated on a first-come\, first-served basis. \nFor more information or special accommodations\, contact the Edinburg Chamber. \n\n\n	Related
URL:https://valleybusinessreport.com/event/edinburg-mayors-prayer-breakfast/
LOCATION:Region One Education Service Center\, 2022 West Schunior Street\, Edinburg\, 78541\, United States
CATEGORIES:Festivals and Celebrations
ATTACH;FMTTYPE=image/jpeg:https://valleybusinessreport.com/wp-content/uploads/2024/04/prayer-breakfast.jpg
ORGANIZER;CN="Edinburg Chamber of Commerce":MAILTO:chamber@edinburg.com
END:VEVENT
BEGIN:VEVENT
DTSTART;TZID=America/Chicago:20240501T113000
DTEND;TZID=America/Chicago:20240501T130000
DTSTAMP:20260421T062158
CREATED:20240423T194446Z
LAST-MODIFIED:20240423T194446Z
UID:10001124-1714563000-1714568400@valleybusinessreport.com
SUMMARY:2024 Law Day Luncheon
DESCRIPTION:The Edinburg Chamber of Commerce and Hidalgo County Bar Association host the Law Day Luncheon on May 1. \nLaw Day is a celebration of the fundamental principles of the rule of law and its pivotal role in shaping our society. This year\, the focus centers around the American Bar Association’s Law Day theme\, “Voices of Democracy.” \nUnder this compelling theme\, the chamber is proud to present a distinguished panel of speakers including 370th District Court Judge Noe Gonzalez and County Court #8 Judge Omar Maldonado. Moderating the event will be Veronica Gonzales\, senior vice president of Governmental and Community Relations at The University of Texas Rio Grande Valley. These esteemed speakers will share their perspectives on the top regulatory challenges facing businesses today. \nAdditionally\, the program will address the impact of class action lawsuits on businesses\, including considerations around insurance coverage and associated risks. \nIndividual tickets and tables of seven are available for purchase by contacting the Edinburg Chamber of Commerce at 956-383-4974 or marketing@edinburg.com. \nRegister online. \n\n\n	Related
URL:https://valleybusinessreport.com/event/2024-law-day-luncheon/
LOCATION:Region One Education Service Center\, 2022 West Schunior Street\, Edinburg\, 78541\, United States
CATEGORIES:Speakers
ATTACH;FMTTYPE=image/jpeg:https://valleybusinessreport.com/wp-content/uploads/2024/04/law-day.jpg
ORGANIZER;CN="Edinburg Chamber of Commerce":MAILTO:chamber@edinburg.com
END:VEVENT
BEGIN:VEVENT
DTSTART;TZID=America/Chicago:20231108T183000
DTEND;TZID=America/Chicago:20231108T183000
DTSTAMP:20260421T062158
CREATED:20231019T165106Z
LAST-MODIFIED:20231019T165149Z
UID:10001027-1699468200-1699468200@valleybusinessreport.com
SUMMARY:Edinburg Chamber Installation & Awards Banquet
DESCRIPTION:The Edinburg Chamber of Commerce hosts its 2023 Installation & Awards Banquet on Nov. 8\, reflecting on the remarkable achievements of the 2022-2023 year. \nThe chamber will pay tribute to outgoing President of the Board Mario Lizcano as he hands over the gavel to incoming 2023-2024 President Kelly Salazar. \nThe evening will also be a platform to honor exceptional individuals who have made significant contributions to the community. The chamber will recognize the 2023 Man & Woman of the Year\, recipient of the Outstanding Leadership Award\, the Ambassador of the Year\, and outstanding businesses receiving the Distinguished Business Awards. \nFor further details and reservations\, contact the Edinburg Chamber of Commerce. \n\n\n\n	Related
URL:https://valleybusinessreport.com/event/edinburg-chamber-installation-awards-banquet-2/
LOCATION:Region One Education Service Center\, 2022 West Schunior Street\, Edinburg\, 78541\, United States
CATEGORIES:Awards and Recognitions
ATTACH;FMTTYPE=image/jpeg:https://valleybusinessreport.com/wp-content/uploads/2023/10/Edinburg-Man-Woman-2023.jpg
END:VEVENT
END:VCALENDAR