BEGIN:VCALENDAR
VERSION:2.0
PRODID:-//VBR - ECPv6.15.17.1//NONSGML v1.0//EN
CALSCALE:GREGORIAN
METHOD:PUBLISH
X-ORIGINAL-URL:https://valleybusinessreport.com
X-WR-CALDESC:Events for VBR
REFRESH-INTERVAL;VALUE=DURATION:PT1H
X-Robots-Tag:noindex
X-PUBLISHED-TTL:PT1H
BEGIN:VTIMEZONE
TZID:America/Chicago
BEGIN:DAYLIGHT
TZOFFSETFROM:-0600
TZOFFSETTO:-0500
TZNAME:CDT
DTSTART:20220313T080000
END:DAYLIGHT
BEGIN:STANDARD
TZOFFSETFROM:-0500
TZOFFSETTO:-0600
TZNAME:CST
DTSTART:20221106T070000
END:STANDARD
BEGIN:DAYLIGHT
TZOFFSETFROM:-0600
TZOFFSETTO:-0500
TZNAME:CDT
DTSTART:20230312T080000
END:DAYLIGHT
BEGIN:STANDARD
TZOFFSETFROM:-0500
TZOFFSETTO:-0600
TZNAME:CST
DTSTART:20231105T070000
END:STANDARD
BEGIN:DAYLIGHT
TZOFFSETFROM:-0600
TZOFFSETTO:-0500
TZNAME:CDT
DTSTART:20240310T080000
END:DAYLIGHT
BEGIN:STANDARD
TZOFFSETFROM:-0500
TZOFFSETTO:-0600
TZNAME:CST
DTSTART:20241103T070000
END:STANDARD
END:VTIMEZONE
BEGIN:VEVENT
DTSTART;TZID=America/Chicago:20230210T100000
DTEND;TZID=America/Chicago:20230210T120000
DTSTAMP:20260422T005332
CREATED:20230206T143025Z
LAST-MODIFIED:20230206T143025Z
UID:10000901-1676023200-1676030400@valleybusinessreport.com
SUMMARY:The Importance of a Business Plan
DESCRIPTION:“The Importance of a Business Plan” with the UTRGV Small Business Development Center on Feb. 10 provides information on the power of business planning and why it’s important to prepare a business plan. \nA sound business plan will:\n\nDefine and focus on your business objective\nBe an essential part of the loan application process\nBe used to obtain advice from experts\nUncover omissions and/or weaknesses in the business idea and planning process\nThe key components of a business plan\n\nA good business plan guides you through each stage of starting and managing your business. You’ll use it as a road map for how to structure\, run\, and grow your new business. It’s a way to think through the key elements of your business. \nBusiness plans can help you get funding or bring on new business partners. Investors want to feel confident they’ll see a return on their investment. \nThis is the third workshop in a series of 12 from the U.S. Small Business Administration specifically developed with the local entrepreneur in mind.  The 12-part series addresses a variety of subjects and connects participants with experts from federal\, state and local business resources. \nRegister online. \n\n\n	Related
URL:https://valleybusinessreport.com/event/the-importance-of-a-business-plan/
LOCATION:SBA Lower Rio Grande Valley District Office \, 2422 E. Tyler Ave.\, Suite E\, Harlingen\, TX\, 78550\, United States
CATEGORIES:Seminars and Workshops
ATTACH;FMTTYPE=image/jpeg:https://valleybusinessreport.com/wp-content/uploads/2019/01/business-plan.jpg
ORGANIZER;CN="Veronica Z. Ortega%2C SBA":MAILTO:veronica.ortega@sba.gov
END:VEVENT
BEGIN:VEVENT
DTSTART;TZID=America/Chicago:20230113T090000
DTEND;TZID=America/Chicago:20230113T110000
DTSTAMP:20260422T005332
CREATED:20230109T200152Z
LAST-MODIFIED:20230109T200152Z
UID:10000865-1673600400-1673607600@valleybusinessreport.com
SUMMARY:Let’s Talk Business Series 2023 - How to Really Start your Own Business
DESCRIPTION:“How to Really Start Your Own Business” on Jan. 13 is the first workshop in a series of 12 from SBA specifically developed with the local entrepreneur in mind. The 12-part series addresses a variety of subjects and connects participants with experts from federal\, state and local business resources. \nDid you recently start a business or planning to start one? While starting a business is an exciting venture\, it can be overwhelming and daunting to navigate without proper planning\, understanding and execution. \nThere are a number of factors to keep in mind before starting your own business. If you’re thinking about starting your own business\, this session will give you the understanding you need to be well informed and confident when you evaluate your ideas. \nTo kick off the series\, this session will be presented by SCORE RGV and will help participants understand entrepreneurship. \nDiscover and Learn: \n\nMyths and Realities of Entrepreneurship\nDo you have what it takes?\nComponents of Business Ownership\nMaking it Legal\nBusiness Plan Basics\n\nRegister online.\n\n\n	Related
URL:https://valleybusinessreport.com/event/lets-talk-business-series-2023-how-to-really-start-your-own-business/
LOCATION:SBA Lower Rio Grande Valley District Office \, 2422 E. Tyler Ave.\, Suite E\, Harlingen\, TX\, 78550\, United States
CATEGORIES:Seminars and Workshops
ATTACH;FMTTYPE=image/jpeg:https://valleybusinessreport.com/wp-content/uploads/2023/01/HowToStartABusiness.jpg
ORGANIZER;CN="Veronica Z. Ortega%2C SBA":MAILTO:veronica.ortega@sba.gov
END:VEVENT
END:VCALENDAR