BEGIN:VCALENDAR
VERSION:2.0
PRODID:-//VBR - ECPv6.15.17.1//NONSGML v1.0//EN
CALSCALE:GREGORIAN
METHOD:PUBLISH
X-ORIGINAL-URL:https://valleybusinessreport.com
X-WR-CALDESC:Events for VBR
REFRESH-INTERVAL;VALUE=DURATION:PT1H
X-Robots-Tag:noindex
X-PUBLISHED-TTL:PT1H
BEGIN:VTIMEZONE
TZID:America/Chicago
BEGIN:DAYLIGHT
TZOFFSETFROM:-0600
TZOFFSETTO:-0500
TZNAME:CDT
DTSTART:20200308T080000
END:DAYLIGHT
BEGIN:STANDARD
TZOFFSETFROM:-0500
TZOFFSETTO:-0600
TZNAME:CST
DTSTART:20201101T070000
END:STANDARD
BEGIN:DAYLIGHT
TZOFFSETFROM:-0600
TZOFFSETTO:-0500
TZNAME:CDT
DTSTART:20210314T080000
END:DAYLIGHT
BEGIN:STANDARD
TZOFFSETFROM:-0500
TZOFFSETTO:-0600
TZNAME:CST
DTSTART:20211107T070000
END:STANDARD
BEGIN:DAYLIGHT
TZOFFSETFROM:-0600
TZOFFSETTO:-0500
TZNAME:CDT
DTSTART:20220313T080000
END:DAYLIGHT
BEGIN:STANDARD
TZOFFSETFROM:-0500
TZOFFSETTO:-0600
TZNAME:CST
DTSTART:20221106T070000
END:STANDARD
BEGIN:DAYLIGHT
TZOFFSETFROM:-0600
TZOFFSETTO:-0500
TZNAME:CDT
DTSTART:20230312T080000
END:DAYLIGHT
BEGIN:STANDARD
TZOFFSETFROM:-0500
TZOFFSETTO:-0600
TZNAME:CST
DTSTART:20231105T070000
END:STANDARD
END:VTIMEZONE
BEGIN:VEVENT
DTSTART;TZID=America/Chicago:20220421T080000
DTEND;TZID=America/Chicago:20220421T170000
DTSTAMP:20260421T040033
CREATED:20220421T183916Z
LAST-MODIFIED:20220421T183916Z
UID:10000766-1650528000-1650560400@valleybusinessreport.com
SUMMARY:Mission Citrus Golf Classic 2022
DESCRIPTION:The Mission Citrus Golf Classic 2022 takes place May 6\, benefiting the Mission CISD Education Fund. \nRegistration begins at 7:30 a.m. with an 8:30 a.m. tee-off. Registration is $500 for a team of three and includes course fees\, golf cart\, gift bags\, breakfast and lunch. \nTo pre-register or for sponsorship information\, call 956-585-2727 or email vicepresident@missionchamber.com. \nRegistration is also available online. \n\n\n	Related
URL:https://valleybusinessreport.com/event/mission-citrus-golf-classic-2022/
LOCATION:Shary Municipal Golf Club\, 2201 North Mayberry Street\, Mission\, TX\, 78572\, United States
CATEGORIES:Fundraisers,Recreation
ATTACH;FMTTYPE=image/jpeg:https://valleybusinessreport.com/wp-content/uploads/2022/04/Mission-Citrus-Classic-2022.jpg
END:VEVENT
BEGIN:VEVENT
DTSTART;VALUE=DATE:20210507
DTEND;VALUE=DATE:20210508
DTSTAMP:20260421T040033
CREATED:20210427T160139Z
LAST-MODIFIED:20210427T160139Z
UID:10000549-1620345600-1620431999@valleybusinessreport.com
SUMMARY:GMCC Golf Tournament
DESCRIPTION:The Greater Mission Chamber of Commerce hosts the Mission Citrus Golf Classic May 7. Registration and breakfast begin at 7:30 a.m.\, tee-off follows at 8:30 a.m. \nRegistration is $500 for teams of three. Fee includes course fees\, golf cart\, gift bags\, breakfast and lunch. Sponsorship options are available. \nA portion of the proceeds benefit Mission CISD students. \nTo pre-register\, contact C.J. Sanchez.\n\n\n	Related
URL:https://valleybusinessreport.com/event/gmcc-golf-tournament/
LOCATION:Shary Municipal Golf Club\, 2201 North Mayberry Street\, Mission\, TX\, 78572\, United States
CATEGORIES:Recreation
ATTACH;FMTTYPE=image/png:https://valleybusinessreport.com/wp-content/uploads/2021/04/GMCC-Golf-2021.png
ORGANIZER;CN="C.J. Sanchez":MAILTO:vicepresident@missionchamber.com
END:VEVENT
END:VCALENDAR