BEGIN:VCALENDAR
VERSION:2.0
PRODID:-//VBR - ECPv6.15.17.1//NONSGML v1.0//EN
CALSCALE:GREGORIAN
METHOD:PUBLISH
X-ORIGINAL-URL:https://valleybusinessreport.com
X-WR-CALDESC:Events for VBR
REFRESH-INTERVAL;VALUE=DURATION:PT1H
X-Robots-Tag:noindex
X-PUBLISHED-TTL:PT1H
BEGIN:VTIMEZONE
TZID:America/Chicago
BEGIN:DAYLIGHT
TZOFFSETFROM:-0600
TZOFFSETTO:-0500
TZNAME:CDT
DTSTART:20230312T080000
END:DAYLIGHT
BEGIN:STANDARD
TZOFFSETFROM:-0500
TZOFFSETTO:-0600
TZNAME:CST
DTSTART:20231105T070000
END:STANDARD
BEGIN:DAYLIGHT
TZOFFSETFROM:-0600
TZOFFSETTO:-0500
TZNAME:CDT
DTSTART:20240310T080000
END:DAYLIGHT
BEGIN:STANDARD
TZOFFSETFROM:-0500
TZOFFSETTO:-0600
TZNAME:CST
DTSTART:20241103T070000
END:STANDARD
BEGIN:DAYLIGHT
TZOFFSETFROM:-0600
TZOFFSETTO:-0500
TZNAME:CDT
DTSTART:20250309T080000
END:DAYLIGHT
BEGIN:STANDARD
TZOFFSETFROM:-0500
TZOFFSETTO:-0600
TZNAME:CST
DTSTART:20251102T070000
END:STANDARD
END:VTIMEZONE
BEGIN:VEVENT
DTSTART;TZID=America/Chicago:20240406T100000
DTEND;TZID=America/Chicago:20240406T140000
DTSTAMP:20260423T135400
CREATED:20240403T180634Z
LAST-MODIFIED:20240403T180955Z
UID:10001111-1712397600-1712412000@valleybusinessreport.com
SUMMARY:Prevent\, Treat & Beat Diabetes Symposium
DESCRIPTION:The Prevent\, Treat & Beat Diabetes Symposium on April 6 is a free event for the entire family at STC’s Nursing & Allied Health Campus (Bldg. B). \nLearn ways to keep your health in check via: \n\nDiabetes education seminars led by local healthcare professionals\nExercise and cooking demos geared to specific groups (kids\, adults\, seniors\, caregivers)\nHealth checks and screenings\nInformation and resource connections via an expo\n\nFor more information\, contact Veronica Galligan at 956-821-9569 or Veronica.Galligan@uhsinc.com. \n\n\n	Related
URL:https://valleybusinessreport.com/event/prevent-treat-beat-diabetes-symposium/
LOCATION:South Texas College\, 1901 S. McColl Road\, McAllen\, United States
CATEGORIES:Seminars and Workshops
ATTACH;FMTTYPE=image/jpeg:https://valleybusinessreport.com/wp-content/uploads/2024/04/thumbnail_Diabetes-Symposium.jpg
ORGANIZER;CN="McAllen Chamber of Commerce":MAILTO:bcardenas@mcallenchamber.com
END:VEVENT
END:VCALENDAR