BEGIN:VCALENDAR
VERSION:2.0
PRODID:-//VBR - ECPv6.15.17.1//NONSGML v1.0//EN
CALSCALE:GREGORIAN
METHOD:PUBLISH
X-WR-CALNAME:VBR
X-ORIGINAL-URL:https://valleybusinessreport.com
X-WR-CALDESC:Events for VBR
REFRESH-INTERVAL;VALUE=DURATION:PT1H
X-Robots-Tag:noindex
X-PUBLISHED-TTL:PT1H
BEGIN:VTIMEZONE
TZID:America/Chicago
BEGIN:DAYLIGHT
TZOFFSETFROM:-0600
TZOFFSETTO:-0500
TZNAME:CDT
DTSTART:20220313T080000
END:DAYLIGHT
BEGIN:STANDARD
TZOFFSETFROM:-0500
TZOFFSETTO:-0600
TZNAME:CST
DTSTART:20221106T070000
END:STANDARD
BEGIN:DAYLIGHT
TZOFFSETFROM:-0600
TZOFFSETTO:-0500
TZNAME:CDT
DTSTART:20230312T080000
END:DAYLIGHT
BEGIN:STANDARD
TZOFFSETFROM:-0500
TZOFFSETTO:-0600
TZNAME:CST
DTSTART:20231105T070000
END:STANDARD
BEGIN:DAYLIGHT
TZOFFSETFROM:-0600
TZOFFSETTO:-0500
TZNAME:CDT
DTSTART:20240310T080000
END:DAYLIGHT
BEGIN:STANDARD
TZOFFSETFROM:-0500
TZOFFSETTO:-0600
TZNAME:CST
DTSTART:20241103T070000
END:STANDARD
BEGIN:DAYLIGHT
TZOFFSETFROM:-0600
TZOFFSETTO:-0500
TZNAME:CDT
DTSTART:20250309T080000
END:DAYLIGHT
BEGIN:STANDARD
TZOFFSETFROM:-0500
TZOFFSETTO:-0600
TZNAME:CST
DTSTART:20251102T070000
END:STANDARD
BEGIN:DAYLIGHT
TZOFFSETFROM:-0600
TZOFFSETTO:-0500
TZNAME:CDT
DTSTART:20260308T080000
END:DAYLIGHT
BEGIN:STANDARD
TZOFFSETFROM:-0500
TZOFFSETTO:-0600
TZNAME:CST
DTSTART:20261101T070000
END:STANDARD
END:VTIMEZONE
BEGIN:VEVENT
DTSTART;TZID=America/Chicago:20250222T073000
DTEND;TZID=America/Chicago:20250222T170000
DTSTAMP:20260421T044639
CREATED:20250201T223026Z
LAST-MODIFIED:20250201T223026Z
UID:10001247-1740209400-1740243600@valleybusinessreport.com
SUMMARY:Heroes with Heart 5K Run
DESCRIPTION:South Texas Health System Heart presents Heroes with a Heart 5K Run/Walk on Feb. 22 to promote heart healthy behavior. \nThe event includes custom finisher medals and age group awards. \nRegister online. \n\n\n	Related
URL:https://valleybusinessreport.com/event/heroes-with-heart-5k-run/
LOCATION:South Texas Health System Heart\, 1900 South D Street\, McAllen\, TX\, 78503\, United States
CATEGORIES:Fundraisers
ATTACH;FMTTYPE=image/jpeg:https://valleybusinessreport.com/wp-content/uploads/2025/02/Heroes-with-Heart-5k.jpg
ORGANIZER;CN="South Texas Health System Heart":MAILTO:Kassandra.Rodriguez@uhsrgv.com
END:VEVENT
BEGIN:VEVENT
DTSTART;TZID=America/Chicago:20230517T080000
DTEND;TZID=America/Chicago:20230517T170000
DTSTAMP:20260421T044639
CREATED:20230517T210902Z
LAST-MODIFIED:20230517T210902Z
UID:10000933-1684310400-1684342800@valleybusinessreport.com
SUMMARY:CEO Roundtable
DESCRIPTION:Join the McAllen Chamber of Commerce on May 23 a candid discussion on the future of business. U.S. Small Business Administration Lower Rio Grande Valley District Director Angela Burton will speak about solutions for small business challenges. \nSeating is limited. \nTo RSVP\, contact Retention Specialist Mariela Hinojosa 956-682-2871 or mhinojosa@mcallenchamber.com. \n\n\n	Related
URL:https://valleybusinessreport.com/event/ceo-roundtable/
LOCATION:South Texas Health System Heart\, 1900 South D Street\, McAllen\, TX\, 78503\, United States
CATEGORIES:Speakers
ATTACH;FMTTYPE=image/jpeg:https://valleybusinessreport.com/wp-content/uploads/2023/05/CEO-Roundtable_May-2023_Flyer.jpg
ORGANIZER;CN="McAllen Chamber of Commerce":MAILTO:bcardenas@mcallenchamber.com
END:VEVENT
BEGIN:VEVENT
DTSTART;TZID=America/Chicago:20230225T073000
DTEND;TZID=America/Chicago:20230225T073000
DTSTAMP:20260421T044639
CREATED:20230206T182151Z
LAST-MODIFIED:20230206T182151Z
UID:10000882-1677310200-1677310200@valleybusinessreport.com
SUMMARY:Heros with Hearts 5K
DESCRIPTION:To commemorate American Heart Month and promote heart-healthy behavior\, South Texas Health System Heart invites the public to take part in its Heroes with Heart 5K on Feb. 25. \nThis year’s run is dedicated to the Valley’s own Heroes with Heart veterans who have survived and thrived in their battle with heart disease. All proceeds benefit local charities. \nRegistration deadline is noon on Feb. 24. Visit the run website for fees\, age categories and more information. \n\n\n	Related
URL:https://valleybusinessreport.com/event/heros-with-hearts-5k/
LOCATION:South Texas Health System Heart\, 1900 South D Street\, McAllen\, TX\, 78503\, United States
CATEGORIES:Fundraisers
ATTACH;FMTTYPE=image/jpeg:https://valleybusinessreport.com/wp-content/uploads/2023/02/Heroes-With-Heart.jpg
ORGANIZER;CN="South Texas Health System Heart":MAILTO:Kassandra.Rodriguez@uhsrgv.com
END:VEVENT
END:VCALENDAR