BEGIN:VCALENDAR
VERSION:2.0
PRODID:-//VBR - ECPv6.15.17.1//NONSGML v1.0//EN
CALSCALE:GREGORIAN
METHOD:PUBLISH
X-WR-CALNAME:VBR
X-ORIGINAL-URL:https://valleybusinessreport.com
X-WR-CALDESC:Events for VBR
REFRESH-INTERVAL;VALUE=DURATION:PT1H
X-Robots-Tag:noindex
X-PUBLISHED-TTL:PT1H
BEGIN:VTIMEZONE
TZID:America/Chicago
BEGIN:DAYLIGHT
TZOFFSETFROM:-0600
TZOFFSETTO:-0500
TZNAME:CDT
DTSTART:20210314T080000
END:DAYLIGHT
BEGIN:STANDARD
TZOFFSETFROM:-0500
TZOFFSETTO:-0600
TZNAME:CST
DTSTART:20211107T070000
END:STANDARD
BEGIN:DAYLIGHT
TZOFFSETFROM:-0600
TZOFFSETTO:-0500
TZNAME:CDT
DTSTART:20220313T080000
END:DAYLIGHT
BEGIN:STANDARD
TZOFFSETFROM:-0500
TZOFFSETTO:-0600
TZNAME:CST
DTSTART:20221106T070000
END:STANDARD
BEGIN:DAYLIGHT
TZOFFSETFROM:-0600
TZOFFSETTO:-0500
TZNAME:CDT
DTSTART:20230312T080000
END:DAYLIGHT
BEGIN:STANDARD
TZOFFSETFROM:-0500
TZOFFSETTO:-0600
TZNAME:CST
DTSTART:20231105T070000
END:STANDARD
BEGIN:DAYLIGHT
TZOFFSETFROM:-0600
TZOFFSETTO:-0500
TZNAME:CDT
DTSTART:20240310T080000
END:DAYLIGHT
BEGIN:STANDARD
TZOFFSETFROM:-0500
TZOFFSETTO:-0600
TZNAME:CST
DTSTART:20241103T070000
END:STANDARD
BEGIN:DAYLIGHT
TZOFFSETFROM:-0600
TZOFFSETTO:-0500
TZNAME:CDT
DTSTART:20250309T080000
END:DAYLIGHT
BEGIN:STANDARD
TZOFFSETFROM:-0500
TZOFFSETTO:-0600
TZNAME:CST
DTSTART:20251102T070000
END:STANDARD
END:VTIMEZONE
BEGIN:VEVENT
DTSTART;TZID=America/Chicago:20241106T113000
DTEND;TZID=America/Chicago:20241106T131500
DTSTAMP:20260421T155727
CREATED:20241025T121049Z
LAST-MODIFIED:20241026T023213Z
UID:10001204-1730892600-1730898900@valleybusinessreport.com
SUMMARY:Networking Lunch Mob
DESCRIPTION:Join the Weslaco Area Chamber of Commerce for its monthly Networking Lunch Mob on Nov. 6 at a location to be announced. \nRules: \n\nEach participant will pay their own lunch\nDuring lunch\, there will be some networking questions to get the conversation started.\nTable Tents have instructions on what to do to help promote the restaurant being supported.\nOther than that\, just enjoy lunch and meet someone new and have a great time.\nDon’t forget your business cards.\n\nTo participate with the chamber group you must be a member of the chamber. If you are a “NOT YET MEMBER” there is a $5 fee. \nStay updated on the chamber’s Facebook page. \n\n\n	Related
URL:https://valleybusinessreport.com/event/networking-lunch-mob-3/
LOCATION:TBA
CATEGORIES:Networking
ATTACH;FMTTYPE=image/png:https://valleybusinessreport.com/wp-content/uploads/2023/01/LunchMOB_2.1.23.png
ORGANIZER;CN="Weslaco Area Chamber of Commerce":MAILTO:chamber@weslaco.com
END:VEVENT
BEGIN:VEVENT
DTSTART;TZID=America/Chicago:20230906T113000
DTEND;TZID=America/Chicago:20230906T130000
DTSTAMP:20260421T155727
CREATED:20230830T182333Z
LAST-MODIFIED:20230830T182333Z
UID:10000989-1693999800-1694005200@valleybusinessreport.com
SUMMARY:Weslaco Networking Lunch Mob
DESCRIPTION:Join the Weslaco Area Chamber of Commerce for its monthly Networking Lunch Mob on Sept. 6. The monthly event is an opportunity to network with other business community members and support a local restaurant. Register online to receive event instructions\, everyone pays their own lunch. \nRegister online. \n\n\n	Related
URL:https://valleybusinessreport.com/event/weslaco-networking-lunch-mob-7/
LOCATION:TBA
CATEGORIES:Networking
ATTACH;FMTTYPE=image/png:https://valleybusinessreport.com/wp-content/uploads/2023/01/LunchMOB_2.1.23.png
ORGANIZER;CN="Weslaco Area Chamber of Commerce":MAILTO:chamber@weslaco.com
END:VEVENT
BEGIN:VEVENT
DTSTART;TZID=America/Chicago:20230802T113000
DTEND;TZID=America/Chicago:20230802T130000
DTSTAMP:20260421T155727
CREATED:20230718T171457Z
LAST-MODIFIED:20230718T171926Z
UID:10000965-1690975800-1690981200@valleybusinessreport.com
SUMMARY:Weslaco Networking Lunch Mob
DESCRIPTION:Join the Weslaco Area Chamber of Commerce for its monthly Networking Lunch Mob on Aug. 2. The monthly event is an opportunity to network with other business community members and support a local restaurant. Register online to receive event instructions\, everyone pays their own lunch. \nRegister online. \n\n\n	Related
URL:https://valleybusinessreport.com/event/weslaco-networking-lunch-mob-6/
LOCATION:TBA
CATEGORIES:Networking
ATTACH;FMTTYPE=image/png:https://valleybusinessreport.com/wp-content/uploads/2023/01/LunchMOB_2.1.23.png
ORGANIZER;CN="Weslaco Area Chamber of Commerce":MAILTO:chamber@weslaco.com
END:VEVENT
BEGIN:VEVENT
DTSTART;TZID=America/Chicago:20230705T113000
DTEND;TZID=America/Chicago:20230705T130000
DTSTAMP:20260421T155727
CREATED:20230628T153159Z
LAST-MODIFIED:20230628T153443Z
UID:10000792-1688556600-1688562000@valleybusinessreport.com
SUMMARY:Weslaco Networking Lunch Mob
DESCRIPTION:Join the Weslaco Area Chamber of Commerce for its monthly Networking Lunch Mob on July 5. The monthly event is an opportunity to network with other business community members and support a local restaurant. Register online to receive event instructions\, everyone pays their own lunch. \nRegister online. \n\n\n	Related
URL:https://valleybusinessreport.com/event/weslaco-networking-lunch-mob-5/
LOCATION:TBA
CATEGORIES:Networking
ATTACH;FMTTYPE=image/png:https://valleybusinessreport.com/wp-content/uploads/2023/01/LunchMOB_2.1.23.png
ORGANIZER;CN="Weslaco Area Chamber of Commerce":MAILTO:chamber@weslaco.com
END:VEVENT
BEGIN:VEVENT
DTSTART;TZID=America/Chicago:20230405T113000
DTEND;TZID=America/Chicago:20230405T130000
DTSTAMP:20260421T155727
CREATED:20230221T201403Z
LAST-MODIFIED:20230529T141732Z
UID:10000886-1680694200-1680699600@valleybusinessreport.com
SUMMARY:Weslaco Networking Lunch Mob
DESCRIPTION:Join the Weslaco Area Chamber of Commerce for it monthly Networking Lunch Mob on March 1. The event provides an opportunity to network with other business community members and support a local restaurant. Everyone pays for his/her own lunch. \nRegister online to receive event location and instructions. \n\n\n	Related
URL:https://valleybusinessreport.com/event/weslaco-networking-lunch-mob-4-2023-04-05/
LOCATION:TBA
CATEGORIES:Networking
ATTACH;FMTTYPE=image/png:https://valleybusinessreport.com/wp-content/uploads/2023/01/LunchMOB_2.1.23.png
ORGANIZER;CN="Weslaco Area Chamber of Commerce":MAILTO:chamber@weslaco.com
END:VEVENT
BEGIN:VEVENT
DTSTART;TZID=America/Chicago:20230301T113000
DTEND;TZID=America/Chicago:20230301T130000
DTSTAMP:20260421T155727
CREATED:20230221T201403Z
LAST-MODIFIED:20230329T143438Z
UID:10000885-1677670200-1677675600@valleybusinessreport.com
SUMMARY:Weslaco Networking Lunch Mob
DESCRIPTION:Join the Weslaco Area Chamber of Commerce for it monthly Networking Lunch Mob on March 1. The event provides an opportunity to network with other business community members and support a local restaurant. Everyone pays for his/her own lunch. \nRegister online to receive event location and instructions. \n\n\n	Related
URL:https://valleybusinessreport.com/event/weslaco-networking-lunch-mob-4/2023-03-01/
LOCATION:TBA
CATEGORIES:Networking
ATTACH;FMTTYPE=image/png:https://valleybusinessreport.com/wp-content/uploads/2023/01/LunchMOB_2.1.23.png
ORGANIZER;CN="Weslaco Area Chamber of Commerce":MAILTO:chamber@weslaco.com
END:VEVENT
BEGIN:VEVENT
DTSTART;TZID=America/Chicago:20230201T113000
DTEND;TZID=America/Chicago:20230201T130000
DTSTAMP:20260421T155727
CREATED:20230125T162703Z
LAST-MODIFIED:20230125T163950Z
UID:10000709-1675251000-1675256400@valleybusinessreport.com
SUMMARY:Weslaco Networking Lunch Mob
DESCRIPTION:Join the Weslaco Area Chamber of Commerce for it monthly Networking Lunch Mob on Feb. 1. The event provides an opportunity to network with other business community members and support a local restaurant. Everyone pays for his/her own lunch. \nRegister online to receive event location and instructions. This event has a limit of 20 participants. \n\n\n	Related
URL:https://valleybusinessreport.com/event/weslaco-networking-lunch-mob-3/
LOCATION:TBA
CATEGORIES:Networking
ATTACH;FMTTYPE=image/png:https://valleybusinessreport.com/wp-content/uploads/2023/01/LunchMOB_2.1.23.png
ORGANIZER;CN="Weslaco Area Chamber of Commerce":MAILTO:chamber@weslaco.com
END:VEVENT
BEGIN:VEVENT
DTSTART;TZID=America/Chicago:20230126T170000
DTEND;TZID=America/Chicago:20230126T190000
DTSTAMP:20260421T155727
CREATED:20230117T192953Z
LAST-MODIFIED:20230117T193344Z
UID:10000897-1674752400-1674759600@valleybusinessreport.com
SUMMARY:New Year\, New Business Mixer!
DESCRIPTION:Start 2023 off by putting your business on the map with the Brownsville Chamber of Commerce’s “New Year\, New Business” mixer on Jan. 26. The evening provides networking with various businesses\, entrepreneurs and start-ups who understand the importance of growing successful business ventures.  \nThe Business After-Hours Networking Mixer provides an opportunity for members and non-members to meet today’s business leaders and potential clients. There will be food\, drinks and various opportunities to win prizes. Cocktail attire is recommended. \nTickets are $25 for Brownsville Chamber members\, $30 for non-members. \nRegister online.\nFor more information\, contact the Brownsville Chamber of Commerce. \n\n\n	Related
URL:https://valleybusinessreport.com/event/new-year-new-business-mixer/
LOCATION:TBA
CATEGORIES:Networking
ATTACH;FMTTYPE=image/png:https://valleybusinessreport.com/wp-content/uploads/2023/01/1.26.23NewYearNewBusiness.png
ORGANIZER;CN="Brownsville Chamber of Commerce":MAILTO:info@brownsvillechamber.com
END:VEVENT
BEGIN:VEVENT
DTSTART;TZID=America/Chicago:20230104T113000
DTEND;TZID=America/Chicago:20230104T130000
DTSTAMP:20260421T155727
CREATED:20221228T142824Z
LAST-MODIFIED:20221228T142824Z
UID:10000853-1672831800-1672837200@valleybusinessreport.com
SUMMARY:Weslaco Networking Lunch Mob
DESCRIPTION:Join the Weslaco Area Chamber of Commerce for it monthly networking lunch on Jan. 4. The event provides an opportunity to network with other business community members and support a local restaurant. Everyone pays for his/her own lunch. \nRegister online to receive event location and instructions. \n\n\n	Related
URL:https://valleybusinessreport.com/event/weslaco-networking-lunch-mob-2/
LOCATION:TBA
CATEGORIES:Networking
ATTACH;FMTTYPE=image/png:https://valleybusinessreport.com/wp-content/uploads/2022/09/LunchMob_Oct2022.png
ORGANIZER;CN="Weslaco Area Chamber of Commerce":MAILTO:chamber@weslaco.com
END:VEVENT
BEGIN:VEVENT
DTSTART;TZID=America/Chicago:20221207T113000
DTEND;TZID=America/Chicago:20221207T130000
DTSTAMP:20260421T155727
CREATED:20221128T204741Z
LAST-MODIFIED:20221128T204741Z
UID:10000873-1670412600-1670418000@valleybusinessreport.com
SUMMARY:Networking Lunch Mob
DESCRIPTION:Join the Weslaco Area Chamber of Commerce for it monthly networking lunch on Dec. 7. The event provides an opportunity to network with other business community members and support a local restaurant. Everyone pays for his/her own lunch. \nRegister online to receive event location and instructions. \n\n\n	Related
URL:https://valleybusinessreport.com/event/networking-lunch-mob/
LOCATION:TBA
CATEGORIES:Networking
ATTACH;FMTTYPE=image/png:https://valleybusinessreport.com/wp-content/uploads/2022/09/LunchMob_Oct2022.png
ORGANIZER;CN="Weslaco Area Chamber of Commerce":MAILTO:chamber@weslaco.com
END:VEVENT
BEGIN:VEVENT
DTSTART;TZID=America/Chicago:20221102T113000
DTEND;TZID=America/Chicago:20221102T130000
DTSTAMP:20260421T155727
CREATED:20221025T184448Z
LAST-MODIFIED:20221025T184741Z
UID:10000676-1667388600-1667394000@valleybusinessreport.com
SUMMARY:Weslaco Networking Lunch Mob
DESCRIPTION:Join the Weslaco Area Chamber of Commerce for it monthly networking lunch on Nov. 2. The event provides an opportunity to network with other business community members and support a local restaurant. Everyone pays for his/her own lunch. \nRegister online to receive event location and instructions. \n\n\n	Related
URL:https://valleybusinessreport.com/event/weslaco-networking-lunch-mob/
LOCATION:TBA
CATEGORIES:Networking
ATTACH;FMTTYPE=image/png:https://valleybusinessreport.com/wp-content/uploads/2022/09/LunchMob_Oct2022.png
END:VEVENT
BEGIN:VEVENT
DTSTART;TZID=America/Chicago:20221005T113000
DTEND;TZID=America/Chicago:20221005T133000
DTSTAMP:20260421T155727
CREATED:20220913T154900Z
LAST-MODIFIED:20220913T154900Z
UID:10000840-1664969400-1664976600@valleybusinessreport.com
SUMMARY:Weslaco Chamber Networking Lunch Mob
DESCRIPTION:Join the Weslaco Chamber Of Commerce for its monthly Networking Lunch Mob on Oct. 5. This event is an opportunity to support local business and network over lunch. \nRegister online to receive event instructions and location. \nRSVP online.\n\n\n	Related
URL:https://valleybusinessreport.com/event/weslaco-chamber-networking-lunch-mob/
LOCATION:TBA
CATEGORIES:Networking
ORGANIZER;CN="Weslaco Area Chamber of Commerce":MAILTO:chamber@weslaco.com
END:VEVENT
END:VCALENDAR