BEGIN:VCALENDAR
VERSION:2.0
PRODID:-//VBR - ECPv6.15.17.1//NONSGML v1.0//EN
CALSCALE:GREGORIAN
METHOD:PUBLISH
X-ORIGINAL-URL:https://valleybusinessreport.com
X-WR-CALDESC:Events for VBR
REFRESH-INTERVAL;VALUE=DURATION:PT1H
X-Robots-Tag:noindex
X-PUBLISHED-TTL:PT1H
BEGIN:VTIMEZONE
TZID:America/Chicago
BEGIN:DAYLIGHT
TZOFFSETFROM:-0600
TZOFFSETTO:-0500
TZNAME:CDT
DTSTART:20220313T080000
END:DAYLIGHT
BEGIN:STANDARD
TZOFFSETFROM:-0500
TZOFFSETTO:-0600
TZNAME:CST
DTSTART:20221106T070000
END:STANDARD
BEGIN:DAYLIGHT
TZOFFSETFROM:-0600
TZOFFSETTO:-0500
TZNAME:CDT
DTSTART:20230312T080000
END:DAYLIGHT
BEGIN:STANDARD
TZOFFSETFROM:-0500
TZOFFSETTO:-0600
TZNAME:CST
DTSTART:20231105T070000
END:STANDARD
BEGIN:DAYLIGHT
TZOFFSETFROM:-0600
TZOFFSETTO:-0500
TZNAME:CDT
DTSTART:20240310T080000
END:DAYLIGHT
BEGIN:STANDARD
TZOFFSETFROM:-0500
TZOFFSETTO:-0600
TZNAME:CST
DTSTART:20241103T070000
END:STANDARD
END:VTIMEZONE
BEGIN:VEVENT
DTSTART;TZID=America/Chicago:20230621T163000
DTEND;TZID=America/Chicago:20230621T190000
DTSTAMP:20260422T004235
CREATED:20230613T201107Z
LAST-MODIFIED:20230613T201515Z
UID:10000941-1687365000-1687374000@valleybusinessreport.com
SUMMARY:Texas Cook'Em: High Steaks Kickoff Mixer
DESCRIPTION:Join the Edinburg Chamber of Commerce for the Texas Cook’Em Kickoff Mixer hosted by Texas National Bank on June\, 21 from 4:30-7 p.m. This networking event gives the opportunity to connect with others who share similar passions and interests. \nRSVP to confirm attendance. Registration is free for Edinburg Chamber members\, $20 for non-members. \n\n\n	Related
URL:https://valleybusinessreport.com/event/texas-cookem-high-steaks-kickoff-mixer/
LOCATION:Texas National Bank\, 4908 S. Jackson Road\, Edinburg\, TX\, 78539\, United States
CATEGORIES:Networking
ORGANIZER;CN="Edinburg Chamber of Commerce":MAILTO:chamber@edinburg.com
END:VEVENT
END:VCALENDAR