BEGIN:VCALENDAR
VERSION:2.0
PRODID:-//VBR - ECPv6.15.17.1//NONSGML v1.0//EN
CALSCALE:GREGORIAN
METHOD:PUBLISH
X-ORIGINAL-URL:https://valleybusinessreport.com
X-WR-CALDESC:Events for VBR
REFRESH-INTERVAL;VALUE=DURATION:PT1H
X-Robots-Tag:noindex
X-PUBLISHED-TTL:PT1H
BEGIN:VTIMEZONE
TZID:America/Chicago
BEGIN:DAYLIGHT
TZOFFSETFROM:-0600
TZOFFSETTO:-0500
TZNAME:CDT
DTSTART:20220313T080000
END:DAYLIGHT
BEGIN:STANDARD
TZOFFSETFROM:-0500
TZOFFSETTO:-0600
TZNAME:CST
DTSTART:20221106T070000
END:STANDARD
BEGIN:DAYLIGHT
TZOFFSETFROM:-0600
TZOFFSETTO:-0500
TZNAME:CDT
DTSTART:20230312T080000
END:DAYLIGHT
BEGIN:STANDARD
TZOFFSETFROM:-0500
TZOFFSETTO:-0600
TZNAME:CST
DTSTART:20231105T070000
END:STANDARD
BEGIN:DAYLIGHT
TZOFFSETFROM:-0600
TZOFFSETTO:-0500
TZNAME:CDT
DTSTART:20240310T080000
END:DAYLIGHT
BEGIN:STANDARD
TZOFFSETFROM:-0500
TZOFFSETTO:-0600
TZNAME:CST
DTSTART:20241103T070000
END:STANDARD
END:VTIMEZONE
BEGIN:VEVENT
DTSTART;TZID=America/Chicago:20230206T173000
DTEND;TZID=America/Chicago:20230206T193000
DTSTAMP:20260422T165957
CREATED:20230201T203955Z
LAST-MODIFIED:20230201T203955Z
UID:10000720-1675704600-1675711800@valleybusinessreport.com
SUMMARY:RGV Hispanic Chamber Manic Monday Mixer
DESCRIPTION:The RGV Hispanic Chamber hosts its Manic Monday Mixer on Feb. 6 at Main Event\, allowing business people gather to enjoy appetizers and beverages while they mingle and create new business leads. \nThe Manic Monday Mixers have helped the RGVHCC members create many business contacts from throughout the Rio Grande Valley. \nDoor prizes are always a big draw. Anyone donating a door prize gets an extra opportunity to talk about their business. Plenty of business cards are recommended. \nRegister online. \n\n\n	Related
URL:https://valleybusinessreport.com/event/rgv-hispanic-chamber-manic-monday-mixer/
LOCATION:The Main Event\, 500 N. Jackson Suite E\, Pharr\, TX\, 778577\, United States
CATEGORIES:Networking
ATTACH;FMTTYPE=image/jpeg:https://valleybusinessreport.com/wp-content/uploads/2023/02/Manic-Monday-Mixer_Feb23.jpg
END:VEVENT
END:VCALENDAR