BEGIN:VCALENDAR
VERSION:2.0
PRODID:-//VBR - ECPv6.15.17.1//NONSGML v1.0//EN
CALSCALE:GREGORIAN
METHOD:PUBLISH
X-WR-CALNAME:VBR
X-ORIGINAL-URL:https://valleybusinessreport.com
X-WR-CALDESC:Events for VBR
REFRESH-INTERVAL;VALUE=DURATION:PT1H
X-Robots-Tag:noindex
X-PUBLISHED-TTL:PT1H
BEGIN:VTIMEZONE
TZID:America/Chicago
BEGIN:DAYLIGHT
TZOFFSETFROM:-0600
TZOFFSETTO:-0500
TZNAME:CDT
DTSTART:20220313T080000
END:DAYLIGHT
BEGIN:STANDARD
TZOFFSETFROM:-0500
TZOFFSETTO:-0600
TZNAME:CST
DTSTART:20221106T070000
END:STANDARD
BEGIN:DAYLIGHT
TZOFFSETFROM:-0600
TZOFFSETTO:-0500
TZNAME:CDT
DTSTART:20230312T080000
END:DAYLIGHT
BEGIN:STANDARD
TZOFFSETFROM:-0500
TZOFFSETTO:-0600
TZNAME:CST
DTSTART:20231105T070000
END:STANDARD
BEGIN:DAYLIGHT
TZOFFSETFROM:-0600
TZOFFSETTO:-0500
TZNAME:CDT
DTSTART:20240310T080000
END:DAYLIGHT
BEGIN:STANDARD
TZOFFSETFROM:-0500
TZOFFSETTO:-0600
TZNAME:CST
DTSTART:20241103T070000
END:STANDARD
END:VTIMEZONE
BEGIN:VEVENT
DTSTART;TZID=America/Chicago:20230807T173000
DTEND;TZID=America/Chicago:20230807T193000
DTSTAMP:20260422T060351
CREATED:20230718T184137Z
LAST-MODIFIED:20230718T184137Z
UID:10000968-1691429400-1691436600@valleybusinessreport.com
SUMMARY:RGV Hispanic Chamber Manic Monday Mixer
DESCRIPTION:The RGV Hispanic Chamber of Commerce hosts its Manic Monday Mixer on Aug. 7 at Toloa Rooftop. The networking event allows business people to gather over appetizers and beverages while they mingle and create new business leads. \nThe Manic Monday Mixers have helped the RGVHCC members create many business contacts from throughout the Rio Grande Valley. \nDoor prizes are always a big draw. Anyone donating a door prize gets an extra opportunity to talk about their business. Plenty of business cards are definitely recommended. \nRegister online. \nFor more information\, contact the RGV Hispanic Chamber of Commerce.\n\n\n	Related
URL:https://valleybusinessreport.com/event/rgv-hispanic-chamber-manic-monday-mixer-2/
LOCATION:Toloa Rooftop\, 1200 Auburn Ave Suite 360\, McAllen\, TX\, United States
CATEGORIES:Networking
ATTACH;FMTTYPE=image/jpeg:https://valleybusinessreport.com/wp-content/uploads/2023/07/Manic-Monday-Mixer-Aug-23.jpg
END:VEVENT
END:VCALENDAR