BEGIN:VCALENDAR
VERSION:2.0
PRODID:-//VBR - ECPv6.15.17.1//NONSGML v1.0//EN
CALSCALE:GREGORIAN
METHOD:PUBLISH
X-ORIGINAL-URL:https://valleybusinessreport.com
X-WR-CALDESC:Events for VBR
REFRESH-INTERVAL;VALUE=DURATION:PT1H
X-Robots-Tag:noindex
X-PUBLISHED-TTL:PT1H
BEGIN:VTIMEZONE
TZID:America/Chicago
BEGIN:DAYLIGHT
TZOFFSETFROM:-0600
TZOFFSETTO:-0500
TZNAME:CDT
DTSTART:20220313T080000
END:DAYLIGHT
BEGIN:STANDARD
TZOFFSETFROM:-0500
TZOFFSETTO:-0600
TZNAME:CST
DTSTART:20221106T070000
END:STANDARD
BEGIN:DAYLIGHT
TZOFFSETFROM:-0600
TZOFFSETTO:-0500
TZNAME:CDT
DTSTART:20230312T080000
END:DAYLIGHT
BEGIN:STANDARD
TZOFFSETFROM:-0500
TZOFFSETTO:-0600
TZNAME:CST
DTSTART:20231105T070000
END:STANDARD
BEGIN:DAYLIGHT
TZOFFSETFROM:-0600
TZOFFSETTO:-0500
TZNAME:CDT
DTSTART:20240310T080000
END:DAYLIGHT
BEGIN:STANDARD
TZOFFSETFROM:-0500
TZOFFSETTO:-0600
TZNAME:CST
DTSTART:20241103T070000
END:STANDARD
END:VTIMEZONE
BEGIN:VEVENT
DTSTART;TZID=America/Chicago:20230725T173000
DTEND;TZID=America/Chicago:20230725T193000
DTSTAMP:20260421T163556
CREATED:20230717T115938Z
LAST-MODIFIED:20230717T115938Z
UID:10000957-1690306200-1690313400@valleybusinessreport.com
SUMMARY:Cheers & Connections: Networking Mixer
DESCRIPTION:Join the RGV Hispanic Chamber of Commerce on July 25 for an evening of mingling and forging valuable connections at Cheers & Connections: Networking Mixer. This event is hosted in collaboration with Total Wine & More. The evening will be a fusion of business\, pleasure and fruitful connections. \nRegister online. \n\n\n	Related
URL:https://valleybusinessreport.com/event/cheers-connections-networking-mixer/
LOCATION:Total Wine\, 800 E. Expressway 83\, Suite 200\, McAllen\, TX\, 78503\, United States
CATEGORIES:Networking
ATTACH;FMTTYPE=image/jpeg:https://valleybusinessreport.com/wp-content/uploads/2023/07/Cheers-and-Connections.jpg
END:VEVENT
END:VCALENDAR