BEGIN:VCALENDAR
VERSION:2.0
PRODID:-//VBR - ECPv6.15.17.1//NONSGML v1.0//EN
CALSCALE:GREGORIAN
METHOD:PUBLISH
X-ORIGINAL-URL:https://valleybusinessreport.com
X-WR-CALDESC:Events for VBR
REFRESH-INTERVAL;VALUE=DURATION:PT1H
X-Robots-Tag:noindex
X-PUBLISHED-TTL:PT1H
BEGIN:VTIMEZONE
TZID:America/Chicago
BEGIN:DAYLIGHT
TZOFFSETFROM:-0600
TZOFFSETTO:-0500
TZNAME:CDT
DTSTART:20210314T080000
END:DAYLIGHT
BEGIN:STANDARD
TZOFFSETFROM:-0500
TZOFFSETTO:-0600
TZNAME:CST
DTSTART:20211107T070000
END:STANDARD
BEGIN:DAYLIGHT
TZOFFSETFROM:-0600
TZOFFSETTO:-0500
TZNAME:CDT
DTSTART:20220313T080000
END:DAYLIGHT
BEGIN:STANDARD
TZOFFSETFROM:-0500
TZOFFSETTO:-0600
TZNAME:CST
DTSTART:20221106T070000
END:STANDARD
BEGIN:DAYLIGHT
TZOFFSETFROM:-0600
TZOFFSETTO:-0500
TZNAME:CDT
DTSTART:20230312T080000
END:DAYLIGHT
BEGIN:STANDARD
TZOFFSETFROM:-0500
TZOFFSETTO:-0600
TZNAME:CST
DTSTART:20231105T070000
END:STANDARD
BEGIN:DAYLIGHT
TZOFFSETFROM:-0600
TZOFFSETTO:-0500
TZNAME:CDT
DTSTART:20240310T080000
END:DAYLIGHT
BEGIN:STANDARD
TZOFFSETFROM:-0500
TZOFFSETTO:-0600
TZNAME:CST
DTSTART:20241103T070000
END:STANDARD
BEGIN:DAYLIGHT
TZOFFSETFROM:-0600
TZOFFSETTO:-0500
TZNAME:CDT
DTSTART:20250309T080000
END:DAYLIGHT
BEGIN:STANDARD
TZOFFSETFROM:-0500
TZOFFSETTO:-0600
TZNAME:CST
DTSTART:20251102T070000
END:STANDARD
BEGIN:DAYLIGHT
TZOFFSETFROM:-0600
TZOFFSETTO:-0500
TZNAME:CDT
DTSTART:20260308T080000
END:DAYLIGHT
BEGIN:STANDARD
TZOFFSETFROM:-0500
TZOFFSETTO:-0600
TZNAME:CST
DTSTART:20261101T070000
END:STANDARD
END:VTIMEZONE
BEGIN:VEVENT
DTSTART;TZID=America/Chicago:20250428T100000
DTEND;TZID=America/Chicago:20250428T120000
DTSTAMP:20260422T035314
CREATED:20250423T153449Z
LAST-MODIFIED:20250423T153449Z
UID:10001271-1745834400-1745841600@valleybusinessreport.com
SUMMARY:Fireside Chat with Vicente Fox | RGV Startup Week
DESCRIPTION:Start your RGV Startup Week with a morning you won’t forget on April 28 — featuring a powerful fireside chat with Vicente Fox Quesada\, former president of Mexico and a global voice for leadership\, innovation and change. \nIn this insightful conversation\, President Fox will share his experiences on resilience\, leadership\, and navigating political and economic uncertainty — especially relevant to entrepreneurs and changemakers working in border communities. His unique perspective offers both inspiration and practical insight for those building businesses in the Rio Grande Valley and beyond. \nThe conversation will be moderated by Berenice Garcia\, Rio Grande Valley reporter for The Texas Tribune\, and will spark thoughtful dialogue on how cross-border collaboration and innovation can thrive — even in the most challenging times. \nRegister online. \n\n\n	Related
URL:https://valleybusinessreport.com/event/fireside-chat-with-vicente-fox-rgv-startup-week/
LOCATION:TSC Performing Arts Center\, 90 Taylor Avenue\, Brownsville\, TX\, United States
CATEGORIES:Speakers
ATTACH;FMTTYPE=image/png:https://valleybusinessreport.com/wp-content/uploads/2025/04/RGVSW25-VicenteFox-02-scaled.png
END:VEVENT
BEGIN:VEVENT
DTSTART;TZID=America/Chicago:20250326T163000
DTEND;TZID=America/Chicago:20250326T203000
DTSTAMP:20260422T035314
CREATED:20250305T012210Z
LAST-MODIFIED:20250305T012210Z
UID:10001260-1743006600-1743021000@valleybusinessreport.com
SUMMARY:State of the City | Brownsville 2025: Edge of the Future
DESCRIPTION:Join Mayor John Cowen as he delivers his second annual State of the City Address “Brownsville 2025: Edge of the Future” on March 26. This event invites local businesses\, community stakeholders\, constituents and regional leaders to gather and celebrate the City of Brownsville’s accomplishments over the past year. \nEvent Details:\nRegistration & Networking: 4:30-5:30 p.m.\nProgram: 6-7 p.m.\nDinner: 7-8:30 p.m. \nBrownsville Chamber member tickets are $50 per person\, $100 per person with dinner. Non-member tickets are $55 per person\, $110 per person with dinner. \nFor those unable to attend in person\, the address will be livestreamed on the City of Brownsville’s YouTube channel\, ensuring community-wide access. \nContact Astrid Rosales at membership@brownsvillechamber.com to explore the diverse sponsorship options available. \nRegister online. \nFor more information or assistance with the registration process\, contact the Brownsville Chamber of Commerce office. \n\n\n	Related
URL:https://valleybusinessreport.com/event/state-of-the-city-brownsville-2025-edge-of-the-future/
LOCATION:TSC Performing Arts Center\, 90 Taylor Avenue\, Brownsville\, TX\, United States
CATEGORIES:Speakers
ATTACH;FMTTYPE=image/png:https://valleybusinessreport.com/wp-content/uploads/2025/03/3.26.25StateoftheCityAddress.png
ORGANIZER;CN="Brownsville Chamber of Commerce":MAILTO:info@brownsvillechamber.com
END:VEVENT
BEGIN:VEVENT
DTSTART;VALUE=DATE:20220325
DTEND;VALUE=DATE:20220327
DTSTAMP:20260422T035314
CREATED:20220323T184046Z
LAST-MODIFIED:20220323T184303Z
UID:10000717-1648166400-1648339199@valleybusinessreport.com
SUMMARY:17th Brownsville Guitar Festival
DESCRIPTION:The Brownsville Society for the Performing Arts presents the Brownsville Guitar Festival on March 25 and 26. The event features performances by some of the best\, most inventive acoustic guitarists in the world today. \nBerta Rojas\, “guitarist extraordinaire”\, nominated three times for Latin Grammy Awards\, brings her vibrant and uniquely popular style to the stage while Xavier Jara displays talents that won him the world’s most prestigious solo guitar competition.\nCreated by Dr. Michael Quantz in 2001\, the festival was designed to benefit students and music programs of all levels studying music on the guitar. Ensembles from more than 50 cities across the United States and Mexico have participated in the festival. Some of the greats in the classical guitar world have performed and taught for us including Grammy winners David Russell\, the Los Angeles Guitar Quartet\, Jason Vieaux\, and Los Romeros. \n\n\n	Related
URL:https://valleybusinessreport.com/event/17th-brownsville-guitar-festival/
LOCATION:TSC Performing Arts Center\, 90 Taylor Avenue\, Brownsville\, TX\, United States
CATEGORIES:Festivals and Celebrations
ATTACH;FMTTYPE=image/png:https://valleybusinessreport.com/wp-content/uploads/2022/03/GuitarFest2022.png
END:VEVENT
END:VCALENDAR