BEGIN:VCALENDAR
VERSION:2.0
PRODID:-//VBR - ECPv6.15.17.1//NONSGML v1.0//EN
CALSCALE:GREGORIAN
METHOD:PUBLISH
X-WR-CALNAME:VBR
X-ORIGINAL-URL:https://valleybusinessreport.com
X-WR-CALDESC:Events for VBR
REFRESH-INTERVAL;VALUE=DURATION:PT1H
X-Robots-Tag:noindex
X-PUBLISHED-TTL:PT1H
BEGIN:VTIMEZONE
TZID:America/Chicago
BEGIN:DAYLIGHT
TZOFFSETFROM:-0600
TZOFFSETTO:-0500
TZNAME:CDT
DTSTART:20220313T080000
END:DAYLIGHT
BEGIN:STANDARD
TZOFFSETFROM:-0500
TZOFFSETTO:-0600
TZNAME:CST
DTSTART:20221106T070000
END:STANDARD
BEGIN:DAYLIGHT
TZOFFSETFROM:-0600
TZOFFSETTO:-0500
TZNAME:CDT
DTSTART:20230312T080000
END:DAYLIGHT
BEGIN:STANDARD
TZOFFSETFROM:-0500
TZOFFSETTO:-0600
TZNAME:CST
DTSTART:20231105T070000
END:STANDARD
BEGIN:DAYLIGHT
TZOFFSETFROM:-0600
TZOFFSETTO:-0500
TZNAME:CDT
DTSTART:20240310T080000
END:DAYLIGHT
BEGIN:STANDARD
TZOFFSETFROM:-0500
TZOFFSETTO:-0600
TZNAME:CST
DTSTART:20241103T070000
END:STANDARD
BEGIN:DAYLIGHT
TZOFFSETFROM:-0600
TZOFFSETTO:-0500
TZNAME:CDT
DTSTART:20250309T080000
END:DAYLIGHT
BEGIN:STANDARD
TZOFFSETFROM:-0500
TZOFFSETTO:-0600
TZNAME:CST
DTSTART:20251102T070000
END:STANDARD
BEGIN:DAYLIGHT
TZOFFSETFROM:-0600
TZOFFSETTO:-0500
TZNAME:CDT
DTSTART:20260308T080000
END:DAYLIGHT
BEGIN:STANDARD
TZOFFSETFROM:-0500
TZOFFSETTO:-0600
TZNAME:CST
DTSTART:20261101T070000
END:STANDARD
BEGIN:DAYLIGHT
TZOFFSETFROM:-0600
TZOFFSETTO:-0500
TZNAME:CDT
DTSTART:20270314T080000
END:DAYLIGHT
BEGIN:STANDARD
TZOFFSETFROM:-0500
TZOFFSETTO:-0600
TZNAME:CST
DTSTART:20271107T070000
END:STANDARD
END:VTIMEZONE
BEGIN:VEVENT
DTSTART;TZID=America/Chicago:20260114T113000
DTEND;TZID=America/Chicago:20260114T130000
DTSTAMP:20260421T133017
CREATED:20260107T021617Z
LAST-MODIFIED:20260107T021617Z
UID:10001342-1768390200-1768395600@valleybusinessreport.com
SUMMARY:State of the State Luncheon
DESCRIPTION:Join the Harlingen Area Chamber of Commerce for the State of the State Luncheon on Jan. 15 at the TSTC Cultural Arts Center. \nThis signature event will feature distinguished federal and state elected officials sharing key updates\, insights\, and priorities that impact our region and the State of Texas. \nConnect with business leaders\, community members\, and policymakers shaping the future of our state. \nFor table reservations or sponsorship opportunities\, contact nballi@harlingen.com or call 956-423-5440. \n\n\n	Related
URL:https://valleybusinessreport.com/event/state-of-the-state-luncheon-3/
LOCATION:TSTC Cultural Arts Center\, 1902 N. Loop 499\, Harlingen\, 78550\, United States
CATEGORIES:Speakers
ATTACH;FMTTYPE=image/png:https://valleybusinessreport.com/wp-content/uploads/2026/01/SOCSOS-Luncheon.png
END:VEVENT
BEGIN:VEVENT
DTSTART;TZID=America/Chicago:20251218T113000
DTEND;TZID=America/Chicago:20251218T130000
DTSTAMP:20260421T133017
CREATED:20251211T001814Z
LAST-MODIFIED:20251211T001852Z
UID:10001339-1766057400-1766062800@valleybusinessreport.com
SUMMARY:State of the County Luncheon 2025
DESCRIPTION:Join the Harlingen Area Chamber of Commerce for the 2025 State of the County Luncheon on Dec. 18. This annual event offers valuable insight into the progress\, priorities and future of Cameron County. Hear directly from county leaders as they discuss key initiatives and community developments shaping our region. \nSpeakers include:\n\nCameron County Judge Eddie Treviño\, Jr.\nCommissioner Pct. 1 Sofia C. Benavides\nCommissioner Pct. 2 Joey Lopez\nCommissioner Pct. 3 David Garza\nCommissioner Pct. 4 Gus Ruiz\n\nFor table reservations or sponsorship opportunities\, contact nballi@harlingen.com or call 956-423-5440. \n\n\n	Related
URL:https://valleybusinessreport.com/event/state-of-the-county-luncheon-2025/
LOCATION:TSTC Cultural Arts Center\, 1902 N. Loop 499\, Harlingen\, 78550\, United States
CATEGORIES:Speakers
ATTACH;FMTTYPE=image/png:https://valleybusinessreport.com/wp-content/uploads/2025/12/SOCSOS-Luncheon.png
END:VEVENT
BEGIN:VEVENT
DTSTART;TZID=America/Chicago:20231212T113000
DTEND;TZID=America/Chicago:20231212T133000
DTSTAMP:20260421T133017
CREATED:20231206T145250Z
LAST-MODIFIED:20231206T145250Z
UID:10001055-1702380600-1702387800@valleybusinessreport.com
SUMMARY:State of the State Luncheon
DESCRIPTION:The Harlingen Area Chamber of Commerce hosts the State of the State Luncheon on Dec. 12. The insightful gathering discusses the latest developments and future prospects. Attending are state representatives Oscar Longoria (District 35)\, Janie Lopez State Representative (District 37) and Erin Gamez (District 38). Special guest Senator Morgan LaMantia (District 27) will also be in attendance. \nFor more information about table and sponsorship opportunities\, email amarez@harlingen.com or call 956-423-5440. \n\n\n	Related
URL:https://valleybusinessreport.com/event/state-of-the-state-luncheon/
LOCATION:TSTC Cultural Arts Center\, 1902 N. Loop 499\, Harlingen\, 78550\, United States
CATEGORIES:Speakers
ATTACH;FMTTYPE=image/jpeg:https://valleybusinessreport.com/wp-content/uploads/2023/12/State-of-the-State-Luncheon.jpg
END:VEVENT
END:VCALENDAR