BEGIN:VCALENDAR
VERSION:2.0
PRODID:-//VBR - ECPv6.15.17.1//NONSGML v1.0//EN
CALSCALE:GREGORIAN
METHOD:PUBLISH
X-WR-CALNAME:VBR
X-ORIGINAL-URL:https://valleybusinessreport.com
X-WR-CALDESC:Events for VBR
REFRESH-INTERVAL;VALUE=DURATION:PT1H
X-Robots-Tag:noindex
X-PUBLISHED-TTL:PT1H
BEGIN:VTIMEZONE
TZID:America/Chicago
BEGIN:DAYLIGHT
TZOFFSETFROM:-0600
TZOFFSETTO:-0500
TZNAME:CDT
DTSTART:20230312T080000
END:DAYLIGHT
BEGIN:STANDARD
TZOFFSETFROM:-0500
TZOFFSETTO:-0600
TZNAME:CST
DTSTART:20231105T070000
END:STANDARD
BEGIN:DAYLIGHT
TZOFFSETFROM:-0600
TZOFFSETTO:-0500
TZNAME:CDT
DTSTART:20240310T080000
END:DAYLIGHT
BEGIN:STANDARD
TZOFFSETFROM:-0500
TZOFFSETTO:-0600
TZNAME:CST
DTSTART:20241103T070000
END:STANDARD
BEGIN:DAYLIGHT
TZOFFSETFROM:-0600
TZOFFSETTO:-0500
TZNAME:CDT
DTSTART:20250309T080000
END:DAYLIGHT
BEGIN:STANDARD
TZOFFSETFROM:-0500
TZOFFSETTO:-0600
TZNAME:CST
DTSTART:20251102T070000
END:STANDARD
END:VTIMEZONE
BEGIN:VEVENT
DTSTART;TZID=America/Chicago:20240423T080000
DTEND;TZID=America/Chicago:20240423T093000
DTSTAMP:20260421T120252
CREATED:20240417T010624Z
LAST-MODIFIED:20240417T010624Z
UID:10001118-1713859200-1713864600@valleybusinessreport.com
SUMMARY:Café y Pan Dulce
DESCRIPTION:Café y Pan Dulce on April 23 is open to all RGV Hispanic Chamber of Commerce members and guests. Whether you’re a seasoned member or a first-time guest\, we welcome everyone to join this strategic business-to-business networking event. Hosted by Make a Wish Foundation. \nThe event takes place in Vantage Bank’s sixth floor conference room. \nRegister online. \n\n\n	Related
URL:https://valleybusinessreport.com/event/cafe-y-pan-dulce/
LOCATION:Vantage Bank\, 1801 South 2nd Street\, McAllen\, United States
CATEGORIES:Networking
ATTACH;FMTTYPE=image/png:https://valleybusinessreport.com/wp-content/uploads/2024/04/Cafe-y-pan-dulce.png
END:VEVENT
END:VCALENDAR